BEGIN:VCALENDAR
VERSION:2.0
PRODID:-//OZ Cestou necestou - ECPv6.9.0//NONSGML v1.0//EN
CALSCALE:GREGORIAN
METHOD:PUBLISH
X-ORIGINAL-URL:https://cestounecestou.sk
X-WR-CALDESC:Events for OZ Cestou necestou
REFRESH-INTERVAL;VALUE=DURATION:PT1H
X-Robots-Tag:noindex
X-PUBLISHED-TTL:PT1H
BEGIN:VTIMEZONE
TZID:Europe/Bratislava
BEGIN:DAYLIGHT
TZOFFSETFROM:+0100
TZOFFSETTO:+0200
TZNAME:CEST
DTSTART:20260329T010000
END:DAYLIGHT
BEGIN:STANDARD
TZOFFSETFROM:+0200
TZOFFSETTO:+0100
TZNAME:CET
DTSTART:20261025T010000
END:STANDARD
END:VTIMEZONE
BEGIN:VEVENT
DTSTART;TZID=Europe/Bratislava:20260415T180000
DTEND;TZID=Europe/Bratislava:20260415T210000
DTSTAMP:20260425T223228
CREATED:20260303T154419Z
LAST-MODIFIED:20260303T182012Z
UID:10000449-1776276000-1776286800@cestounecestou.sk
SUMMARY:Humenné - Cestou necestou - Laos: O ľudoch\, prírode a tajnej vojne - Bali " A oplatí sa tam ešte chodiť?"
DESCRIPTION:Pozývame vás na cestovateľský večer v History Art & Music Clube v Humennom. Po prvýkrát k nám zavítajú Nana a Nika\, ktoré vás v prvej prezentácii vezmú do rozvíjajúceho sa Laosu a turistické Bali\, ktoré vám však ukázu z úplne inej strany – ako turisti\, študenti indonézskeho jazyka (ktorými sa aj sami môžete stať a prezradí vám ako) aj ako digitálni nomádi\, ktorí si na Bali urobia svoju dočasnú kanceláriu. \n18:00 Katarína Nana Naništová – Laos: O prírode\, ľuďoch a tajnej vojne\nLaos je pre tých\, ktorí cestujú kvôli prírode. Vezmeme vás na rieku Mekong\, na vápencové kopce a do temných jaskýň. Ukážeme vám kus kultúry a prezradíme\, ako žijú miestni ľudia a čo všetko museli za posledné roky prekonať. Medzi inými aj konflikt\, ktorý sa Laosu netýkal\, no aj tak z krajiny urobil najbombardovanejšiu zem v histórii ľudstva.\nCestu Laosom zakončíme na ostrovoch uprostred 12-tej najdlhšej rieky sveta\, ktor tu končí svoju takmer 2 000 km dlhú púť naprieč Laosom. Pridajte sa na cestu do Laosu od severu až samotný juh.\n\n\n\n			\n				\n			\n			\n				\n			\n		\n\n\n19:15  Nikola Kökényová – Bali “A oplatí sa tam ešte chodiť?”\n\n“Oplatí sa ešte chodiť na Bali?” – to sa nás pýtajú všetci. Miestna kultúra\, náboženstvo a rituály\, aké ponúka Mama Bali nenájdete nikde inde na svete. V našej prednáške vás nezoberieme len na pekné miesta\, ktoré stojí za to vidieť\, ale najmä do tradičného života miestnych\, ktorí dodnes dodržiavajú tradície a oslavujú svojich bohov v priemere každý druhý deň (počítali sme).\n\nAko sa dostal hinduizmus na malý ostrov najväčšej moslimskej krajiny sveta? Koľko dní trvajú rituály spojené s oslavou Nového roka\, ktorý je každý rok inokedy a nikdy nie vtedy\, keď u nás? A aký rok vlastne Balijci nedávno oslávili? Čo sa skrýva za každodennými obetinami a rodinnými oltármi? Prečo sa pred manželstvom brúsia zuby? Čo ak sa Bali nazýva Ostrovom Bohov oprávnene?\n\nS Nikou sa naň pozriete v 3 uhloch pohľadu – ako turisti\, študenti indonézskeho jazyka (ktorými sa aj sami môžete stať a  prezradí vám ako) aj ako digitálni nomádi\, ktorí si na Bali urobia svoju dočasnú kanceláriu.\n\n\n\n\n			\n				\n			\n			\n				\n			\n			\n				\n			\n			\n				\n			\n		\n\n\n\nPredpredaj končí hodinu pred začiatkom podujatia. Cena v predpredaji je 10€ za obe prednášky počas jedného večera. Ďalšie vstupenky budú dostupné na mieste za 12€.\n\nPodujatie nájdete aj na našom Facebooku.
URL:https://cestounecestou.sk/podujatie/humenne-cestou-necestou-laos-o-ludoch-prirode-a-tajnej-vojne-bali-a-oplati-sa-tam-este-chodit/
LOCATION:History Art & Music Club\, komplex Hviezda\, Štefánikova 27\, Humenné\, 066 01\, Slovenská republika
CATEGORIES:Cestou necestou
ATTACH;FMTTYPE=image/jpeg:https://cestounecestou.sk/wp-content/uploads/2026/03/DSC07409.jpg
END:VEVENT
BEGIN:VEVENT
DTSTART;TZID=Europe/Bratislava:20260415T180000
DTEND;TZID=Europe/Bratislava:20260415T210000
DTSTAMP:20260425T223228
CREATED:20260318T221416Z
LAST-MODIFIED:20260413T100017Z
UID:10000466-1776276000-1776286800@cestounecestou.sk
SUMMARY:Žilina - Cestou necestou - Amazonský kmeň Waorani\, festival Burning man
DESCRIPTION:Pozývame Vás na aprílovú cestovateľskú prednášku\, kde nám skúsený cestovateľ Róbert Tůma predstaví Amazonský kmeň Waorani a Braňo Kráľ nás vezme do Nevadskej púšte na na festival Burning Man. Na záver si dáme malý kvíz 🙂 \nKúpiť vstupenky \n18:00  Amazónska cesta k Waorani – Róbert Tůma\nWaorani sú jedným z tradičných amazónskych etník\, ktorý ešte žijú “domorodým” spôsobom života. V tejto prednáške sa prenesieme do Ekvádorskej amazónie\, kde sa mi s nimi podarilo stretnúť\, navštíviť ich a stať sa súčasťou ich rodiny. Aké to je loviť v džungli opice fúkačkou a otrávenými šípkami? Aj to sa dozvieš v tomto rozprávaní. \nRóbert Tůma\, cestovaniu sa venuje aktívne už 10 rokov a stihol navštíviť 32 krajín. Pochádza z Bardejova\, ale žije v Košiciach. Na jeho cestách sa zameriava na spoznávanie lokálnych kultúr a tradícií. V Ázijskej časti sveta sa venoval hlavne Hinduizmu – Šivaistickej ceste. V Amazónskej časti v Južnej Amerike sa venoval šamanizmu. Podniká tiež výpravy na vysoké hory a diaľkové pochody. \n\n			\n				\n			\n			\n				\n			\n			\n				\n			\n			\n				\n			\n		\n\n19:30 Braňo Kráľ – Ako postaviť Burning Man camp pre Muskových súrodencov\nBraňo žil neďaleko miesta konania Burning Mana\, a štyri krát sa tam aj vybral. Raz z toho pomáhal v polyamorickom campe\, raz pomáhal stavať camp pre rodiny Muksovcov a Waltonovcov a ostal tam celé dva týždne\, raz pôsobil v bezpečnostných zložkách. Toto púštne mesto a komunitu považuje za vysokú školu event planningu\, a inšpiráciu pre budovanie niečoho úžasného z nuly. Príďte sa zabaviť a zistiť\, či Burning Man je unikát alebo hype. \n\n			\n				\n			\n			\n				\n			\n			\n				\n			\n			\n				\n			\n		\n\nZáver – Krátky kvíz 🙂\nZapojiť sa môže každý: stačí k tomu mobilný telefón s internetom.\nAk chceš byť prvý\, musíš nie len správne odpovedať ale byť aj rýchly 🙂 \nVstupné\nPredpredaj vstupeniek za zvýhodnenú cenu 10 € prebieha do 17:00.\nKvôli obmedzenej kapacite odporúčame vstupenky zakúpiť vopred cez internet. \nKúpiť vstupenky
URL:https://cestounecestou.sk/podujatie/zilina-cestou-necestou-amazonsky-kmen-waorani-burning-man/
LOCATION:Smer 77\, R. Zaymusa 72/8\, Žilina\, 01001\, Slovakia (Slovak Republic)
CATEGORIES:Cestou necestou
ATTACH;FMTTYPE=image/jpeg:https://cestounecestou.sk/wp-content/uploads/2026/03/20190826_013606.jpg
ORGANIZER;CN="Matej Gellen":MAILTO:matej@cestounecestou.sk
END:VEVENT
END:VCALENDAR