BEGIN:VCALENDAR
VERSION:2.0
PRODID:-//OZ Cestou necestou - ECPv6.9.0//NONSGML v1.0//EN
CALSCALE:GREGORIAN
METHOD:PUBLISH
X-WR-CALNAME:OZ Cestou necestou
X-ORIGINAL-URL:https://cestounecestou.sk
X-WR-CALDESC:Events for OZ Cestou necestou
REFRESH-INTERVAL;VALUE=DURATION:PT1H
X-Robots-Tag:noindex
X-PUBLISHED-TTL:PT1H
BEGIN:VTIMEZONE
TZID:Europe/Bratislava
BEGIN:DAYLIGHT
TZOFFSETFROM:+0100
TZOFFSETTO:+0200
TZNAME:CEST
DTSTART:20260329T010000
END:DAYLIGHT
BEGIN:STANDARD
TZOFFSETFROM:+0200
TZOFFSETTO:+0100
TZNAME:CET
DTSTART:20261025T010000
END:STANDARD
END:VTIMEZONE
BEGIN:VEVENT
DTSTART;TZID=Europe/Bratislava:20260423T180000
DTEND;TZID=Europe/Bratislava:20260423T210000
DTSTAMP:20260426T014136
CREATED:20260303T163928Z
LAST-MODIFIED:20260303T184005Z
UID:10000454-1776967200-1776978000@cestounecestou.sk
SUMMARY:Lučenec - Cestou necestou -  Camperom po južnom pobreží Európy - Bali "A oplatí sa tam ešte chodiť?"
DESCRIPTION:Pozývame vás na cestovateľský večer\, v ktorom vám predstavíme dve cesty z úplne rozličných svetov. V tej prvej vás Nika s Nanou vezmú splniť si detský sen o obytnej dodávke na cestu po pobreží Južnej Európy. V druhej si s nimi zas odpoviete na otázky\, či sa ešte stále oplatí chodiť na Bali a prečo?! \n\n18:00 Katarína Nana Naništová a Nikola Kökényová – Camperom po južnom pobreží Európy\nNika a Nana si splnili detský sen o obytnej dodávke. Zbalili si pár vecí\, zaváraniny a mačku\, a na takmer 5 mesiacov sa stali nomádkami v pravom slova  zmysle. To ešte netušili\, že ich prvú veľkú cestu na obytnej dodávke preverí najhoršia a najdaždivejšia zima v južnej Európe za posledných 10 rokov. \nNajviac ich spomalila krása národného parku Cabo de Gata vo východnom kúte Andalúzie\, najmenej času strávili v preslávených veľkomestách ako Valencia a Barcelona. Prídu vám porozprávať o kráse španielskeho Costa de la Luz\, portugalského Algarve\, pobrežných turistikách a maurskej histórii\, ale aj o fungovaní a živote v obytnej dodávke s mačkou na palub(ovk)e. \nPríďte sa inšpirovať cestou\, ktorú môžete pri troche času a odvahy podniknúť aj vy. Neverili by ste\, že aj Európa ponúka také skvelé dobrodružstvá! \n\n			\n				\n			\n			\n				\n			\n			\n				\n			\n			\n				\n			\n		\n\n19:30 Katarína Naništová a Nikola Kökényová – Bali “A oplatí sa tam ešte chodiť?”\n\n“Oplatí sa ešte chodiť na Bali?” – opýtali sme sa jedna druhej pred našou treťou cestou sem. A pýtajú sa nás to všetci. Miestna kultúra\, náboženstvo a rituály\, aké ponúka Mama Bali nenájdete nikde inde na svete. V našej prednáške vás nezoberieme len na pekné miesta\, ktoré stojí za to vidieť\, ale najmä do tradičného života miestnych\, ktorí dodnes dodržiavajú tradície a oslavujú svojich bohov v priemere každý druhý deň (počítali sme).\nAko sa dostal hinduizmus na malý ostrov najväčšej moslimskej krajiny sveta? Koľko dní trvajú rituály spojené s oslavou Nového roka\, ktorý je každý rok inokedy a nikdy nie vtedy\, keď u nás? A aký rok vlastne Balijci nedávno oslávili? Čo sa skrýva za každodennými obetinami a rodinnými oltármi? Prečo sa pred manželstvom brúsia zuby? Čo ak sa Bali nazýva Ostrovom Bohov oprávnene?\nPozriete sa naň s nami v 3 uhloch pohľadu – ako turisti\, študenti indonézskeho jazyka (ktorými sa aj sami môžete stať a my vám prezradíme ako) aj ako digitálni nomádi\, ktorí si na Bali urobia svoju dočasnú kanceláriu.\n\n\n\n\n			\n				\n			\n			\n				\n			\n			\n				\n			\n			\n				\n			\n		\n\n\n\nPredpredaj končí hodinu pred začiatkom podujatia. Cena v predpredaji je 10 eur za obe prednášky.\nĎalšie vstupenky budú dostupné na mieste za 12€. Podujatie je dostupné aj na našom Facebooku.
URL:https://cestounecestou.sk/podujatie/lucenec-cestou-necestou-camperom-po-juznom-pobrezi-europy-bali-a-oplati-sa-tam-este-chodit/
LOCATION:Tančiareň a pivovar Franz\, Martina Rázusa 11\, Lučenec\, 984 01\, Slovakia (Slovak Republic)
CATEGORIES:Cestou necestou
ATTACH;FMTTYPE=image/jpeg:https://cestounecestou.sk/wp-content/uploads/2026/03/Camperom_ES6.jpg
END:VEVENT
END:VCALENDAR