BEGIN:VCALENDAR
VERSION:2.0
PRODID:-//OZ Cestou necestou - ECPv6.9.0//NONSGML v1.0//EN
CALSCALE:GREGORIAN
METHOD:PUBLISH
X-ORIGINAL-URL:https://cestounecestou.sk
X-WR-CALDESC:Events for OZ Cestou necestou
REFRESH-INTERVAL;VALUE=DURATION:PT1H
X-Robots-Tag:noindex
X-PUBLISHED-TTL:PT1H
BEGIN:VTIMEZONE
TZID:Europe/Bratislava
BEGIN:DAYLIGHT
TZOFFSETFROM:+0100
TZOFFSETTO:+0200
TZNAME:CEST
DTSTART:20260329T010000
END:DAYLIGHT
BEGIN:STANDARD
TZOFFSETFROM:+0200
TZOFFSETTO:+0100
TZNAME:CET
DTSTART:20261025T010000
END:STANDARD
END:VTIMEZONE
BEGIN:VEVENT
DTSTART;TZID=Europe/Bratislava:20260428T180000
DTEND;TZID=Europe/Bratislava:20260428T210000
DTSTAMP:20260425T223305
CREATED:20260303T164707Z
LAST-MODIFIED:20260306T173222Z
UID:10000455-1777399200-1777410000@cestounecestou.sk
SUMMARY:Púchov - Cestou necestou -  Sri Lanka - Honeymoon - Laos: O ľudoch\, prírode a tajnej vojne
DESCRIPTION:Pozývame vás na cestovateľský večer\, v ktorom vás vezmeme do Juhovýchodnej Ázie\, a to rovno dvakrát. V prvej prezentácii vám Matej Raček ukáže\, ako sa dobrodružne sa dá pristúpiť k svadobnej ceste na Sri Lanke a v tej druhej vám Nika s Nanou prezradia akí ľudia a príroda sú v Laose. \n18:00 Matej Raček: Srí Lanka – Honeymoon\nNaša svadobná cesta na Srí Lanku bola dobrodružná cesta\, počas ktorej sme si požičali tuktuk a precestovali južnú časť ostrova vlastným tempom. Vyhľadávali sme lacnejšie ubytovania\, neturistické miesta a autentické zážitky\, hoci nás občas pritiahli aj známe turistické lokality. Počas cesty sme vystriedali 18 ubytovaní a odniesli si silné zážitky plné slobody\, objavovania a spoločných spomienok. \n\n			\n				\n			\n			\n				\n			\n			\n				\n			\n			\n				\n			\n		\n\n  \n19:30 Katarína Nana Naništová – Laos: O prírode\, ľuďoch a tajnej vojne\nLaos je pre tých\, ktorí cestujú kvôli prírode. Vezmeme vás na rieku Mekong\, na vápencové kopce a do temných jaskýň. Ukážeme vám kus kultúry a prezradíme\, ako žijú miestni ľudia a čo všetko museli za posledné roky prekonať. Medzi inými aj konflikt\, ktorý sa Laosu netýkal\, no aj tak z krajiny urobil najbombardovanejšiu zem v histórii ľudstva.\nCestu Laosom zakončíme na ostrovoch uprostred 12-tej najdlhšej rieky sveta\, ktor tu končí svoju takmer 2 000 km dlhú púť naprieč Laosom. Pridajte sa na cestu do Laosu od severu až samotný juh.\n\n\n\n			\n				\n			\n			\n				\n			\n		\n\n\n\n\n\n\n\nPredpredaj končí hodinu pred začiatkom podujatia. Cena v predpredaji je 10€ za obe prednášky počas jedného večera. Ďalšie vstupenky budú dostupné na mieste za 12€.\n\nPodujatie nájdete aj na našom Facebooku.
URL:https://cestounecestou.sk/podujatie/puchov-cestou-necestou-sri-lanka-honeymoon-laos-o-ludoch-prirode-a-tajnej-vojne/
LOCATION:Podivný Barón\, Nábrežie slobody 552/1\, Púchov\, Slovensko\, 020 01\, Slovenská republika
CATEGORIES:Cestou necestou
ATTACH;FMTTYPE=image/jpeg:https://cestounecestou.sk/wp-content/uploads/2026/03/Pozicanie-tuk-tukuSri-LankaRadzinovci.jpg
END:VEVENT
END:VCALENDAR