BEGIN:VCALENDAR
VERSION:2.0
PRODID:-//OZ Cestou necestou - ECPv6.9.0//NONSGML v1.0//EN
CALSCALE:GREGORIAN
METHOD:PUBLISH
X-ORIGINAL-URL:https://cestounecestou.sk
X-WR-CALDESC:Events for OZ Cestou necestou
REFRESH-INTERVAL;VALUE=DURATION:PT1H
X-Robots-Tag:noindex
X-PUBLISHED-TTL:PT1H
BEGIN:VTIMEZONE
TZID:Europe/Bratislava
BEGIN:DAYLIGHT
TZOFFSETFROM:+0100
TZOFFSETTO:+0200
TZNAME:CEST
DTSTART:20260329T010000
END:DAYLIGHT
BEGIN:STANDARD
TZOFFSETFROM:+0200
TZOFFSETTO:+0100
TZNAME:CET
DTSTART:20261025T010000
END:STANDARD
END:VTIMEZONE
BEGIN:VEVENT
DTSTART;TZID=Europe/Bratislava:20260514T180000
DTEND;TZID=Europe/Bratislava:20260514T210000
DTSTAMP:20260426T061922
CREATED:20260305T102152Z
LAST-MODIFIED:20260305T102303Z
UID:10000464-1778781600-1778792400@cestounecestou.sk
SUMMARY:Čadca - Cestou necestou - Keňa očami dobrovoľníka - Vietnam s mamkou a mesiac potom
DESCRIPTION:Pozývame vás na cestovateľský večer v Dejá Vú v Čadci. Predstavíme dve cesty z úplne rozličných svetov. V prvej sa vás Matúš Basanda vezme na dobrovoľníctvo do Kene. V tej druhej vás Nika s Nanou inšpirujú\, čo kúpiť mamke na 50-tku (prezradíme vám – letenku do Vietnamu). \n\n18:00 Matúš Basanda – Keňa očami dobrovoľníka\nKeňa je právom obľúbenou destináciou pre turistov bažiacich po všetkom tom\, čo nás na Afrike vždy lákalo – safari\, domorodci či africká kultúra. Zaujímalo vás ale niekedy\, čo sa skrýva “za oponou”? Každý človek si nesie svoj príbeh.\n\nZa každým úsmevom bežného obyvateľa sa skrýva množstvo zážitkov – niektoré úsmevné\, iné až tak nie. Poďme sa spolu pozrieť na to\, ako sa žije ľuďom tam\, kde končia asfaltové cesty a noha bežného turistu takmer nikdy nevkročí\, kde sa starý svet stretáva s novým a kde duševné bohatstvo zďaleka presahuje to materiálne. Toto je môj život v Keni medzi lokálnymi obyvateľmi.\n\n			\n				\n			\n			\n				\n			\n			\n				\n			\n			\n				\n			\n		\n\n19:30 Katarína “Nana” Naništová a Nikola Kökényová: Vietnam s mamkou a mesiac potom\n\nČo kúpi cestovateľ svojej mame na 50-tku? No predsa letenku. Mamke obojsmernú a sebe jednosmernú…ale o tom mamka ešte nevie. Naša cesta začala v bývalom Saigone na juhu Vietnamu a úlohou bolo ukázať mamke\, prečo sme sa obe zamilovali do cestovania. Máme dva týždne a cieľ je dostať sa do hlavného mesta na severe krajiny. Prechádzame historickými metami Hue\,Da Nang\, Hoi An\, ikonickou zátokou Halong Bay a popritom sa učíme o vietnamskej vojne\, vplyve Číny\, Japonska aj Francúzska\, pestovaní ryže aj výrobe lampiónov.\n\nMamka nasadá na lietadlo a my pokračujeme v spomalenom tempe objavovať miesta\, ktoré nie sú ani v turistických sprievodcoch – stopom\, nočným vlakom až ku hraniciam s Čínou. Teraz spoznávame miestne kmene Hmongov a Taiov\, chuť duseného bambusu a pohľad na grilované psy.\n\nVietnam je síce každým rokom populárnejší\, no ešte stále nájdete miesta\, ktoré sú surové. A my vás tam vezmeme!\n\n			\n				\n			\n			\n				\n			\n			\n				\n			\n			\n				\n			\n		\n\nVstupné v predpredaji je 10€. Predpredaj končí hodinu pred začiatkom podujatia.\nĎalšie vstupenky budú dostupné na mieste za 12€. Podujatie je dostupné aj na Facebooku.
URL:https://cestounecestou.sk/podujatie/cadca-cestou-necestou-kena-ocami-dobrovolnika-vietnam-s-mamkou-a-mesiac-potom/
LOCATION:Déjà vu\, Námestie slobody 60/13\, Čadca\, 022 01\, Slovenská republika
CATEGORIES:Cestou necestou
ATTACH;FMTTYPE=image/jpeg:https://cestounecestou.sk/wp-content/uploads/2026/03/DSC_0320.jpg
END:VEVENT
END:VCALENDAR