BEGIN:VCALENDAR
VERSION:2.0
PRODID:-//OZ Cestou necestou - ECPv6.9.0//NONSGML v1.0//EN
CALSCALE:GREGORIAN
METHOD:PUBLISH
X-WR-CALNAME:OZ Cestou necestou
X-ORIGINAL-URL:https://cestounecestou.sk
X-WR-CALDESC:Events for OZ Cestou necestou
REFRESH-INTERVAL;VALUE=DURATION:PT1H
X-Robots-Tag:noindex
X-PUBLISHED-TTL:PT1H
BEGIN:VTIMEZONE
TZID:Europe/Bratislava
BEGIN:DAYLIGHT
TZOFFSETFROM:+0100
TZOFFSETTO:+0200
TZNAME:CEST
DTSTART:20260329T010000
END:DAYLIGHT
BEGIN:STANDARD
TZOFFSETFROM:+0200
TZOFFSETTO:+0100
TZNAME:CET
DTSTART:20261025T010000
END:STANDARD
END:VTIMEZONE
BEGIN:VEVENT
DTSTART;TZID=Europe/Bratislava:20260512T180000
DTEND;TZID=Europe/Bratislava:20260512T210000
DTSTAMP:20260426T061835
CREATED:20260305T094917Z
LAST-MODIFIED:20260305T095311Z
UID:10000461-1778608800-1778619600@cestounecestou.sk
SUMMARY:Žilina - Cestou necestou - Arktické Špicbergy - Vietnam s mamkou a mesiac potom
DESCRIPTION:Pozývame vás na cestovateľský večer v Žilinskom Smer Klube 77\, v ktorom vám predstavíme dve cesty z úplne rozličných svetov. V prvej sa vás Lenka vezme na Arktické Špicbergy. V tej druhej vás Nika s Nanou inšpirujú\, čo kúpiť mamke na 50-tku (prezradíme vám – letenku do Vietnamu). \n\n18:00 Lenka Kodajová – Arktické Špicbergy\nŠpicbergy\, súostrovie Špicbergy ležiace približne 1000 km severne od Nórska v srdci Arktída\, sú miestom\, kde končí bežný svet a začína surová polárna divočina. Je to krajina nekonečného snehu\, zamrznutých fjordov a ticha\, kde v lete slnko nezapadá a svieti 24 hodín denne\, zatiaľ čo v zime vládne dlhá polárna noc.  \nŽije tu viac ľadových medveďov než ľudí a mimo osád sa pohybuješ len s rešpektom k prírode\, či už na psích záprahoch alebo na snežných skútroch smerujúcich hlboko do bieleho nekonečna.  \nMedzi zážitky patrí vstup do modrej ľadovcovej jaskyne\, kde nad hlavou visia tisíce rokov staré vrstvy ľadu. Atmosféru dotvárajú aj opustené ruské banské osady\, ktoré pôsobia ako zamrznuté mestá duchov. Špicbergy nie sú len destináciou\, ale surovým arktickým zážitkom\, kde človek cíti svoju malosť uprostred jednej z posledných skutočných divočín Európy. \n\n			\n				\n			\n			\n				\n			\n			\n				\n			\n			\n				\n			\n		\n\n  \n19:30 Katarína “Nana” Naništová a Nikola Kökényová: Vietnam s mamkou a mesiac potom\n\nČo kúpi cestovateľ svojej mame na 50-tku? No predsa letenku. Mamke obojsmernú a sebe jednosmernú…ale o tom mamka ešte nevie. Naša cesta začala v bývalom Saigone na juhu Vietnamu a úlohou bolo ukázať mamke\, prečo sme sa obe zamilovali do cestovania. Máme dva týždne a cieľ je dostať sa do hlavného mesta na severe krajiny. Prechádzame historickými metami Hue\,Da Nang\, Hoi An\, ikonickou zátokou Halong Bay a popritom sa učíme o vietnamskej vojne\, vplyve Číny\, Japonska aj Francúzska\, pestovaní ryže aj výrobe lampiónov.\n\nMamka nasadá na lietadlo a my pokračujeme v spomalenom tempe objavovať miesta\, ktoré nie sú ani v turistických sprievodcoch – stopom\, nočným vlakom až ku hraniciam s Čínou. Teraz spoznávame miestne kmene Hmongov a Taiov\, chuť duseného bambusu a pohľad na grilované psy.\n\nVietnam je síce každým rokom populárnejší\, no ešte stále nájdete miesta\, ktoré sú surové. A my vás tam vezmeme!\n\n			\n				\n			\n			\n				\n			\n			\n				\n			\n			\n				\n			\n		\n\nVstupné v predpredaji je 10€. Predpredaj končí hodinu pred začiatkom podujatia.\nĎalšie vstupenky budú dostupné na mieste za 12€. Podujatie je dostupné aj na Facebooku.
URL:https://cestounecestou.sk/podujatie/zilina-cestou-necestou-arkticke-spicbergy-vietnam-s-mamkou-a-mesiac-potom/
LOCATION:Smer 77\, R. Zaymusa 72/8\, Žilina\, 01001\, Slovakia (Slovak Republic)
CATEGORIES:Cestou necestou
ATTACH;FMTTYPE=image/webp:https://cestounecestou.sk/wp-content/uploads/2026/03/cina_hoi-an_vietnam.png.webp
END:VEVENT
BEGIN:VEVENT
DTSTART;TZID=Europe/Bratislava:20260513T180000
DTEND;TZID=Europe/Bratislava:20260513T210000
DTSTAMP:20260426T061835
CREATED:20260305T101317Z
LAST-MODIFIED:20260305T101635Z
UID:10000462-1778695200-1778706000@cestounecestou.sk
SUMMARY:Námestovo - Cestou necestou - Keňa očami dobrovoľníka - Laos: O ľudoch\, prírode a tajnej vojne
DESCRIPTION:Pozývame vás na cestovateľský večer v Námestove v kine Kultúra. Po prvýkrát k nám zavíta Matúš Basanda\, ktorý nám porozpráva svoje zážitky z dobrovoľníctva v Keni. V druhej prezentácii vás Nana a Nika vezmú do rozvíjajúceho sa Laosu\, ktorý navštívili počas ich 8-mesačnej cesty Južnou Áziou. \n18:00 Matúš Basanda: Keňa očami dobrovoľníka\nKeňa je právom obľúbenou destináciou pre turistov bažiacich po všetkom tom\, čo nás na Afrike vždy lákalo – safari\, domorodci či africká kultúra. Zaujímalo vás ale niekedy\, čo sa skrýva “za oponou”? Každý človek si nesie svoj príbeh.\n\nZa každým úsmevom bežného obyvateľa sa skrýva množstvo zážitkov – niektoré úsmevné\, iné až tak nie. Poďme sa spolu pozrieť na to\, ako sa žije ľuďom tam\, kde končia asfaltové cesty a noha bežného turistu takmer nikdy nevkročí\, kde sa starý svet stretáva s novým a kde duševné bohatstvo zďaleka presahuje to materiálne. Toto je môj život v Keni medzi lokálnymi obyvateľmi.\n\n\n			\n				\n			\n			\n				\n			\n			\n				\n			\n			\n				\n			\n		\n\n\n19:30 Katarína Nana Naništová a Nikola Kökényová – Laos: O prírode\, ľuďoch a tajnej vojne\nLaos je pre tých\, ktorí cestujú kvôli prírode. Vezmeme vás na rieku Mekong\, na vápencové kopce a do temných jaskýň. Ukážeme vám kus kultúry a prezradíme\, ako žijú miestni ľudia a čo všetko museli za posledné roky prekonať. Medzi inými aj konflikt\, ktorý sa Laosu netýkal\, no aj tak z krajiny urobil najbombardovanejšiu zem v histórii ľudstva.\nCestu Laosom zakončíme na ostrovoch uprostred 12-tej najdlhšej rieky sveta\, ktor tu končí svoju takmer 2 000 km dlhú púť naprieč Laosom. Pridajte sa na cestu do Laosu od severu až samotný juh.\n\n\n\n			\n				\n			\n			\n				\n			\n			\n				\n			\n			\n				\n			\n		\n\n\n\nPredpredaj končí hodinu pred začiatkom podujatia. Cena v predpredaji je 10€ za obe prednášky počas jedného večera. Ďalšie vstupenky budú dostupné na mieste za 12€.\n\nPodujatie nájdete aj na našom Facebooku.
URL:https://cestounecestou.sk/podujatie/namestovo-cestou-necestou-kena-ocami-dobrovolnika-laos-o-ludoch-prirode-a-tajnej-vojne/
LOCATION:Kino Kultúra Námestovo\, Štefánikova 208/7\, Námestovo\, 029 01\, Slovenská republika
CATEGORIES:Cestou necestou
ATTACH;FMTTYPE=image/jpeg:https://cestounecestou.sk/wp-content/uploads/2026/03/557641518_1263958415775582_2746843944894071169_n.jpg
END:VEVENT
BEGIN:VEVENT
DTSTART;TZID=Europe/Bratislava:20260514T180000
DTEND;TZID=Europe/Bratislava:20260514T210000
DTSTAMP:20260426T061835
CREATED:20260305T102152Z
LAST-MODIFIED:20260305T102303Z
UID:10000464-1778781600-1778792400@cestounecestou.sk
SUMMARY:Čadca - Cestou necestou - Keňa očami dobrovoľníka - Vietnam s mamkou a mesiac potom
DESCRIPTION:Pozývame vás na cestovateľský večer v Dejá Vú v Čadci. Predstavíme dve cesty z úplne rozličných svetov. V prvej sa vás Matúš Basanda vezme na dobrovoľníctvo do Kene. V tej druhej vás Nika s Nanou inšpirujú\, čo kúpiť mamke na 50-tku (prezradíme vám – letenku do Vietnamu). \n\n18:00 Matúš Basanda – Keňa očami dobrovoľníka\nKeňa je právom obľúbenou destináciou pre turistov bažiacich po všetkom tom\, čo nás na Afrike vždy lákalo – safari\, domorodci či africká kultúra. Zaujímalo vás ale niekedy\, čo sa skrýva “za oponou”? Každý človek si nesie svoj príbeh.\n\nZa každým úsmevom bežného obyvateľa sa skrýva množstvo zážitkov – niektoré úsmevné\, iné až tak nie. Poďme sa spolu pozrieť na to\, ako sa žije ľuďom tam\, kde končia asfaltové cesty a noha bežného turistu takmer nikdy nevkročí\, kde sa starý svet stretáva s novým a kde duševné bohatstvo zďaleka presahuje to materiálne. Toto je môj život v Keni medzi lokálnymi obyvateľmi.\n\n			\n				\n			\n			\n				\n			\n			\n				\n			\n			\n				\n			\n		\n\n19:30 Katarína “Nana” Naništová a Nikola Kökényová: Vietnam s mamkou a mesiac potom\n\nČo kúpi cestovateľ svojej mame na 50-tku? No predsa letenku. Mamke obojsmernú a sebe jednosmernú…ale o tom mamka ešte nevie. Naša cesta začala v bývalom Saigone na juhu Vietnamu a úlohou bolo ukázať mamke\, prečo sme sa obe zamilovali do cestovania. Máme dva týždne a cieľ je dostať sa do hlavného mesta na severe krajiny. Prechádzame historickými metami Hue\,Da Nang\, Hoi An\, ikonickou zátokou Halong Bay a popritom sa učíme o vietnamskej vojne\, vplyve Číny\, Japonska aj Francúzska\, pestovaní ryže aj výrobe lampiónov.\n\nMamka nasadá na lietadlo a my pokračujeme v spomalenom tempe objavovať miesta\, ktoré nie sú ani v turistických sprievodcoch – stopom\, nočným vlakom až ku hraniciam s Čínou. Teraz spoznávame miestne kmene Hmongov a Taiov\, chuť duseného bambusu a pohľad na grilované psy.\n\nVietnam je síce každým rokom populárnejší\, no ešte stále nájdete miesta\, ktoré sú surové. A my vás tam vezmeme!\n\n			\n				\n			\n			\n				\n			\n			\n				\n			\n			\n				\n			\n		\n\nVstupné v predpredaji je 10€. Predpredaj končí hodinu pred začiatkom podujatia.\nĎalšie vstupenky budú dostupné na mieste za 12€. Podujatie je dostupné aj na Facebooku.
URL:https://cestounecestou.sk/podujatie/cadca-cestou-necestou-kena-ocami-dobrovolnika-vietnam-s-mamkou-a-mesiac-potom/
LOCATION:Déjà vu\, Námestie slobody 60/13\, Čadca\, 022 01\, Slovenská republika
CATEGORIES:Cestou necestou
ATTACH;FMTTYPE=image/jpeg:https://cestounecestou.sk/wp-content/uploads/2026/03/DSC_0320.jpg
END:VEVENT
BEGIN:VEVENT
DTSTART;TZID=Europe/Bratislava:20260515T180000
DTEND;TZID=Europe/Bratislava:20260515T210000
DTSTAMP:20260426T061835
CREATED:20260305T093930Z
LAST-MODIFIED:20260305T094509Z
UID:10000460-1778868000-1778878800@cestounecestou.sk
SUMMARY:Martin - Cestou necestou - Arktické Špicbergy - Camperom po južnom pobreží Európy
DESCRIPTION:Pozývame vás na cestovateľský večer v Martinskej Kinotéke Sommelier\, v ktorej vám predstavíme dve cesty z úplne rozličných svetov. V prvej sa vás Lenka vezme na Arktické Špicbergy. V tej druhej vás Nika s Nanou vezmú splniť si detský sen o obytnej dodávke na cestu po pobreží Južnej Európy. \n\n18:00 Lenka Kodajová – Arktické Špicbergy\nŠpicbergy\, súostrovie Špicbergy ležiace približne 1000 km severne od Nórska v srdci Arktída\, sú miestom\, kde končí bežný svet a začína surová polárna divočina. Je to krajina nekonečného snehu\, zamrznutých fjordov a ticha\, kde v lete slnko nezapadá a svieti 24 hodín denne\, zatiaľ čo v zime vládne dlhá polárna noc.  \nŽije tu viac ľadových medveďov než ľudí a mimo osád sa pohybuješ len s rešpektom k prírode\, či už na psích záprahoch alebo na snežných skútroch smerujúcich hlboko do bieleho nekonečna.  \nMedzi zážitky patrí vstup do modrej ľadovcovej jaskyne\, kde nad hlavou visia tisíce rokov staré vrstvy ľadu. Atmosféru dotvárajú aj opustené ruské banské osady\, ktoré pôsobia ako zamrznuté mestá duchov. Špicbergy nie sú len destináciou\, ale surovým arktickým zážitkom\, kde človek cíti svoju malosť uprostred jednej z posledných skutočných divočín Európy. \n\n			\n				\n			\n			\n				\n			\n			\n				\n			\n			\n				\n			\n		\n\n19:30 Katarína Nana Naništová a Nikola Kökényová – Camperom po južnom pobreží Európy\nNika a Nana si splnili detský sen o obytnej dodávke. Zbalili si pár vecí\, zaváraniny a mačku\, a na takmer 5 mesiacov sa stali nomádkami v pravom slova  zmysle. To ešte netušili\, že ich prvú veľkú cestu na obytnej dodávke preverí najhoršia a najdaždivejšia zima v južnej Európe za posledných 10 rokov. \nNajviac ich spomalila krása národného parku Cabo de Gata vo východnom kúte Andalúzie\, najmenej času strávili v preslávených veľkomestách ako Valencia a Barcelona. Prídu vám porozprávať o kráse španielskeho Costa de la Luz\, portugalského Algarve\, pobrežných turistikách a maurskej histórii\, ale aj o fungovaní a živote v obytnej dodávke s mačkou na palub(ovk)e. \nPríďte sa inšpirovať cestou\, ktorú môžete pri troche času a odvahy podniknúť aj vy. Neverili by ste\, že aj Európa ponúka také skvelé dobrodružstvá! \n\n			\n				\n			\n			\n				\n			\n			\n				\n			\n			\n				\n			\n		\n\n  \n\nPredpredaj končí hodinu pred začiatkom podujatia. Cena v predpredaji je 10 eur za obe prednášky.\nĎalšie vstupenky budú dostupné na mieste za 12€. Podujatie je dostupné aj na našom Facebooku.
URL:https://cestounecestou.sk/podujatie/martin-cestou-necestou-arkticke-spicbergy-camperom-po-juznom-pobrezi-europy/
LOCATION:Kinotéka Sommelier\, Stavbárska 4466/16\, Martin\, Slovensko\, 036 01\, Slovenská republika
CATEGORIES:Cestou necestou
ATTACH;FMTTYPE=image/jpeg:https://cestounecestou.sk/wp-content/uploads/2026/03/2023_0410_13135300.jpg
END:VEVENT
BEGIN:VEVENT
DTSTART;TZID=Europe/Bratislava:20260530T180000
DTEND;TZID=Europe/Bratislava:20260530T230000
DTSTAMP:20260426T061835
CREATED:20260402T104942Z
LAST-MODIFIED:20260408T104510Z
UID:10000471-1780164000-1780182000@cestounecestou.sk
SUMMARY:Horný Vadičov – Cestou necestou – Great Himalaya Trail: Od Nanga Parbat po Kanchenjungu + Pesničkársky večer s Filipom Jánošíkom
DESCRIPTION:Srdečne vás pozývame na cestovateľský festival Cestou necestou v krásnom horskom prostredí Kysúc – Snow sun Vadičov. Tentokrát spojíme cestovanie\, hudbu a prírodu v jeden harmonický večer a kto bude mať chuť\, pokojne s nami môže zotrvať aj celú noc 🙂 Na úvod sa  vyberieme s takmer domácim Michalom Tlelkom a jeho priateľkou Sofiou Bočeva na peší prechod hlavnej časti Himalájí\, ktorý tento pár dokončil len nedávno. Pakistan\, India\, Nepál….215 dní\, 3616km a dobrodružstvo\, ktoré sa pravdepodobne zapíše do histórie ako prvé svojho druhu. Druhá časť večera bude patriť pesničkárovi a cestovateľovi Filipovi Jánošíkovi\, ktorý si pripravil hudobný program\, ktorým sa chce priblížiť ľuďom\, sadnúť si s nimi na víno a zažiť otvorenú debatu s publikom. Toto bude večer….na ktorý sa nezabúda. \n\n18:00 Michal Tlelka a Sofia Bočeva– Great Himalaya Trail – 1.časť- Pakistan a India\nPrvý súvislý peší prechod hlavnej časti Himaláji od Pakistánu cez Indiu až po samý východ Nepálu! A kto ho má “na svedomí?” 🙂 – \nMichal cestuje už 12 rokov na pankáča (so spacákom a karimatkou) kade tade po svete\, napr. Bolívia\, Čile\, stan-štáty\, Maroko\, Pakistán\, Saudská Arábia\, Bangladéš. Má za sebou dva dĺžkové treky: cesta hrdinov SNP a Santiago de Compostella (1000 km). Tento cestovateľský projekt GHT je jeho dosiaľ najväčším. \nSofia je vedená k cestovaniu od rodičov\, od malého veku. Prvé spacákové dobrodružstvo v zahraničí zažila s Michalom na Faerských ostrovoch v roku 2021\, neskôr na Madeire a Sardínii. O tomto himalájskom projekte ani len nesnívala a dnes je zrejme prvou ženou na svete\, ktorej sa takýto prechod podaril. \nKráčali 215 dní 3 616 km s výškovým prevýšením 163 000 metrov. Suché hory\, ľadovce\, džungľa\, vysoké sedlá\, skromný horský život a nezabudnuteľné stretnutia s domácimi. V prvej časti večera začneme pod legendárnou pakistanskou 8-tisícovkou Nanga Parbat a postupne sa dostaneme do Indie\, až po nepálske hranice. \n19:00 prestávka\n19:15 Michal Tlelka a Sofia Bočeva – Great Himalaya Trail – 2.časť- Nepál\nV druhej polovici prednášky Michal a Sofii budú pokračovať vo svojom himalájskom príbehu a porozprávajú nám o nepálskej časti expedície. \nPutovanie po 215tich dňoch zakončili pod majestátnou Kanchenjongou. Ale hovorí sa….”Ak raz navštívite himalájske kráľovstvo\, bude vás k sebe volať už naveky. ” \nPo prednáškach voľná diskusia….a otázkam sa medze nekladú. 🙂 \n\n			\n				\n			\n			\n				\n			\n			\n				\n			\n			\n				\n			\n		\n\n\n\n21:00 Pesničkársky večer s Filipom Jánošíkom\nAlfou a omegou Filipových vystúpení sú texty a ozajstnosť. Tentokrát pripravil program vhodný na intímne posedenie do klubov\, záhrad a prírody.\nChce sa priblížiť ľuďom\, sadnúť si s nimi na víno a zažiť otvorenú debatu s publikom. Angažované protestsongy striedajú láskavé balady s terapeutickým efektom.\nFilip chce svojou tvorbou prinášať úľavu a ľudskosť. Môžete sa tešiť aj na cover verzie svetových hitov\, pretextovaných do slovenčiny.\nNečakajte však politicky korektné preklady v zmysle českej socialistickej tradície. Čakajte presný opak.\nBob Marley je o vidieckom alkoholizme\, Gorillaz dokumentuje samovraždu rockovej hviezdy a White Stripes sa snaží o mierový dohovor medzi Slovákmi\, ktorí naleteli extrémistom. \nPo koncerte voľná zábava. Možnosť campovať/stanovať zadarmo v horskom areáli Snow Sun Vadičov. \n\n\n			\n				\n			\n		\n\n\nPredpredaj končí hodinu pred začiatkom podujatia. Ďalšie vstupenky budú dostupné na mieste za 12€\, alebo 6€ na koncert po prednáške. Podujatie nájdete aj na facebooku.
URL:https://cestounecestou.sk/podujatie/horny-vadicov-cestou-necestou-great-himalaya-trail-od-nanga-parbat-po-kanchenjungu-pesnickarsky-vecer-s-filipom-janosikom/
LOCATION:Snow sun Vadičov\, Horný Vadičov 626\, Horný Vadičov\, Slovakia\, 02345\, Slovenská republika
CATEGORIES:Cestou necestou
ATTACH;FMTTYPE=image/png:https://cestounecestou.sk/wp-content/uploads/2026/04/India-2.png
END:VEVENT
BEGIN:VEVENT
DTSTART;TZID=Europe/Bratislava:20260620T210000
DTEND;TZID=Europe/Bratislava:20260621T010000
DTSTAMP:20260426T061836
CREATED:20260317T105519Z
LAST-MODIFIED:20260402T121428Z
UID:10000467-1781989200-1782003600@cestounecestou.sk
SUMMARY:Martin - Cestou necestou pod hviezdami - Afrika\, Ázia i Patagónia
DESCRIPTION:Prvýkrát Cestou necestou pod holým nebom na Amfiteátri! Príď sa inšpirovať zážitkami Martinčana Filipa\, s ktorým zažiješ divokú jazdu zabudnutou Západnou Afrikou od súostrovia Bissagos až po bane na krvavé diamanty a následne sa ponor do najlepších svetových outdoorových filmov z Expedičnej kamery 2026. Čaká ťa päťmesačný prechod Patagóniou\, horská cyklistika v Bhutáne aj extrémny slackline v podaní svetových legiend\, to všetko počas jedinečnej cestovateľskej noci v Martine. \n\n21:00 otvorenie\n21:15 Filip Hložný – Guinea-Bissau\, Guinea\, Sierra Leone a Libéria – Tam\, kde mlčí Atlantik\, zabudnuté krajiny Západnej Afriky\nVydáme sa na 22 dní cez zapadnú Afriku. Prejdeme sa po Galapágoch Afriky – Súostroví Bissagos. Prejdeme hranice\, ťažké cesty\, divoké vodopády Guinei\, šialené Konakry\, v Sierra Leone si pozrieme baňu na „krvavé diamanty” a zakončíme to v africkej krajine\, ktorá nikdy nebola kolonizovaná – Libéria. \n\n			\n				\n			\n			\n				\n			\n			\n				\n			\n			\n				\n			\n		\n\n22:20 prestávka\n22:30 Výber najlepších filmov z Expedičnej kamery 2026\n22:30 Stopy divočiny (ČR\, 31 min)\nSurový a osobný film o päťmesačnej pešej ceste Patagóniou dlhej 4 000 kilometrov. Snímka kladie otázku\, či človek zanecháva stopu v divočine – alebo divočina v človeku. \n\n			\n				\n			\n			\n				\n			\n			\n				\n			\n			\n				\n			\n		\n\n\n23:00 Langtang – fotografická cesta do Himalájí (ČR\, 31 min)\nVýprava do srdca nepálskeho Himalája\, od pulzujúceho Káthmandu až po výstup na Yala Peak (5 500 m n. m.). Film prepája trekking\, miestnu kultúru a vášeň pre krajinársku fotografiu. Súčasťou je aj pohľad do zákulisia fotografického workshopu vedeného Petrom Janom Juračkom a Vojtom Kosobudom. \n\n			\n				\n			\n			\n				\n			\n			\n				\n			\n			\n				\n			\n		\n\n23:30 prestávka\n23:40 Bhután: Cesty šťastia (Rakúsko\, 9 min)\nHorský cyklista Tom Öhler objavuje odľahlé chodníky Bhutánu spolu s miestnym priekopníkom MTB. Dobrodružstvo\, ktoré spája šport\, kultúru a filozofiu šťastia. \n\n			\n				\n			\n			\n				\n			\n			\n				\n			\n			\n				\n			\n		\n\n\n23:50 Samuel Volery: Legenda slackline (Švajčiarsko\, 28 min)\nPortrét jednej z najvýraznejších osobností moderného slackliningu. Film sleduje pätnásť rokov posúvania hraníc fyzických aj psychických možností v extrémnych výškach. \n\n			\n				\n			\n			\n				\n			\n		\n\n0:20 Patagónia Ázie (Nemecko\, 24 min)\nVýprava do takmer neznámych hôr juhozápadného Kirgizska\, kde sa mieša duch priekopníctva\, drsná príroda a cyklistika v miestach\, kam sa doteraz takmer nikto nevydal. \n\n			\n				\n			\n			\n				\n			\n			\n				\n			\n			\n				\n			\n		\n\n\nPredpredaj končí hodinu pred začiatkom podujatia.   \nĎalšie vstupenky budú dostupné na mieste \n\nza 11 € alebo 8 € po prvej prestávke za plnú sumu\nza 9 € alebo 6 € po prvej prestávke pre študentov a dôchodcov
URL:https://cestounecestou.sk/podujatie/martin-cestou-necestou-pod-hviezdami-afrika-azia-i-patagonia/
LOCATION:Amfiteáter Martin\, Šoltésovej 25\, Martin\, Martin\, 036 01\, Slovenská republika
CATEGORIES:Cestou necestou,Expedičná kamera
ATTACH;FMTTYPE=image/jpeg:https://cestounecestou.sk/wp-content/uploads/2026/01/highres_bhutan-bike-4803.jpg
END:VEVENT
BEGIN:VEVENT
DTSTART;TZID=Europe/Bratislava:20261106T170000
DTEND;TZID=Europe/Bratislava:20261108T200000
DTSTAMP:20260426T061836
CREATED:20260302T113024Z
LAST-MODIFIED:20260310T130358Z
UID:10000444-1793984400-1794168000@cestounecestou.sk
SUMMARY:Cestovateľský festival Cestou necestou v Bratislave
DESCRIPTION:Nasledujúci cestovateľský festival s 50 prezentáciami a diskusiami bude 6.-8.11.2026 opäť v DK Ružinov. \nPripravujeme opäť program s viac ako 40 cestovateľskými prezentáciami a diskusiami. \nPrvá vlna vstupeniek je dostupná už teraz. Postupne sa bude zvyšovať až po: 50€ na mieste pre 1 osobu a 80€ pre 2 osoby. \nPlánované prezentácie: \n\nMichal Knitl – 3 mesiace na horách a joge v Nepále a Indii\nPetr Hingar (ČR) – Nikaragua
URL:https://cestounecestou.sk/podujatie/cestovatelsky-festival-cestou-necestou-v-bratislave-2026-jesen/
LOCATION:Dom kultúry Ružinov\, Ružinovská 28\, Bratislava\, 821 04\, Slovenská republika
CATEGORIES:Cestou necestou
ATTACH;FMTTYPE=image/jpeg:https://cestounecestou.sk/wp-content/uploads/2026/03/PXL_20250606_031744682.jpg
END:VEVENT
END:VCALENDAR