BEGIN:VCALENDAR
VERSION:2.0
PRODID:-//OZ Cestou necestou - ECPv6.9.0//NONSGML v1.0//EN
CALSCALE:GREGORIAN
METHOD:PUBLISH
X-ORIGINAL-URL:https://cestounecestou.sk
X-WR-CALDESC:Events for OZ Cestou necestou
REFRESH-INTERVAL;VALUE=DURATION:PT1H
X-Robots-Tag:noindex
X-PUBLISHED-TTL:PT1H
BEGIN:VTIMEZONE
TZID:Europe/Bratislava
BEGIN:DAYLIGHT
TZOFFSETFROM:+0100
TZOFFSETTO:+0200
TZNAME:CEST
DTSTART:20260329T010000
END:DAYLIGHT
BEGIN:STANDARD
TZOFFSETFROM:+0200
TZOFFSETTO:+0100
TZNAME:CET
DTSTART:20261025T010000
END:STANDARD
END:VTIMEZONE
BEGIN:VEVENT
DTSTART;TZID=Europe/Bratislava:20260428T180000
DTEND;TZID=Europe/Bratislava:20260428T210000
DTSTAMP:20260425T194116
CREATED:20260303T164707Z
LAST-MODIFIED:20260306T173222Z
UID:10000455-1777399200-1777410000@cestounecestou.sk
SUMMARY:Púchov - Cestou necestou -  Sri Lanka - Honeymoon - Laos: O ľudoch\, prírode a tajnej vojne
DESCRIPTION:Pozývame vás na cestovateľský večer\, v ktorom vás vezmeme do Juhovýchodnej Ázie\, a to rovno dvakrát. V prvej prezentácii vám Matej Raček ukáže\, ako sa dobrodružne sa dá pristúpiť k svadobnej ceste na Sri Lanke a v tej druhej vám Nika s Nanou prezradia akí ľudia a príroda sú v Laose. \n18:00 Matej Raček: Srí Lanka – Honeymoon\nNaša svadobná cesta na Srí Lanku bola dobrodružná cesta\, počas ktorej sme si požičali tuktuk a precestovali južnú časť ostrova vlastným tempom. Vyhľadávali sme lacnejšie ubytovania\, neturistické miesta a autentické zážitky\, hoci nás občas pritiahli aj známe turistické lokality. Počas cesty sme vystriedali 18 ubytovaní a odniesli si silné zážitky plné slobody\, objavovania a spoločných spomienok. \n\n			\n				\n			\n			\n				\n			\n			\n				\n			\n			\n				\n			\n		\n\n  \n19:30 Katarína Nana Naništová – Laos: O prírode\, ľuďoch a tajnej vojne\nLaos je pre tých\, ktorí cestujú kvôli prírode. Vezmeme vás na rieku Mekong\, na vápencové kopce a do temných jaskýň. Ukážeme vám kus kultúry a prezradíme\, ako žijú miestni ľudia a čo všetko museli za posledné roky prekonať. Medzi inými aj konflikt\, ktorý sa Laosu netýkal\, no aj tak z krajiny urobil najbombardovanejšiu zem v histórii ľudstva.\nCestu Laosom zakončíme na ostrovoch uprostred 12-tej najdlhšej rieky sveta\, ktor tu končí svoju takmer 2 000 km dlhú púť naprieč Laosom. Pridajte sa na cestu do Laosu od severu až samotný juh.\n\n\n\n			\n				\n			\n			\n				\n			\n		\n\n\n\n\n\n\n\nPredpredaj končí hodinu pred začiatkom podujatia. Cena v predpredaji je 10€ za obe prednášky počas jedného večera. Ďalšie vstupenky budú dostupné na mieste za 12€.\n\nPodujatie nájdete aj na našom Facebooku.
URL:https://cestounecestou.sk/podujatie/puchov-cestou-necestou-sri-lanka-honeymoon-laos-o-ludoch-prirode-a-tajnej-vojne/
LOCATION:Podivný Barón\, Nábrežie slobody 552/1\, Púchov\, Slovensko\, 020 01\, Slovenská republika
CATEGORIES:Cestou necestou
ATTACH;FMTTYPE=image/jpeg:https://cestounecestou.sk/wp-content/uploads/2026/03/Pozicanie-tuk-tukuSri-LankaRadzinovci.jpg
END:VEVENT
BEGIN:VEVENT
DTSTART;TZID=Europe/Bratislava:20260429T180000
DTEND;TZID=Europe/Bratislava:20260429T210000
DTSTAMP:20260425T194117
CREATED:20260303T175716Z
LAST-MODIFIED:20260305T091909Z
UID:10000456-1777485600-1777496400@cestounecestou.sk
SUMMARY:Trenčín - Cestou necestou - Ako ma uniesli v Sudáne - Camperom po južnom pobreží Európy
DESCRIPTION:Pozývame vás na cestovateľský večer v trenčianskom Mestskom Hostinci\, v ktorom vám predstavíme dve cesty z úplne rozličných svetov. V prvej sa necháte uniesť v Južnom Sudáne spolu s Matejom Peluhom. V tej druhej vás Nika s Nanou vezmú splniť si detský sen o obytnej dodávke na cestu po pobreží Južnej Európy. \n\n18:00 Matej Peluha – Ako ma uniesli v Sudáne\nNelegálne prekročíme hranicu\, prespíme v utečeneckom tábore Yidda a vstúpime do pohoria Nuba\, kde sa uprostred prebiehajúcej vojny snažia prežiť ľudia odrezaní od zvyšku sveta. Do Sudánu sa teraz proste nechodí\, no my to skúsime aspoň doojeho separatistického regiónu Kordofán pozemnou hranicou. Strávime dní pri kmeňoch a spoznáme región odrezaný od sveta vojnou.  \nPotom zamierime do Južného Sudánu – do krajiny\, kde sa tradície zachovali v takmer čistej podobe. Stretneme kmeň Mundari\, žijúci v úzkom spojení so svojím dobytkom a s rituálmi\, ktoré nemajú obdoby: od intímneho fúkania do vagíny kráv až po očistný dážď moču stekajúci po ich telách. Nakoniec sa loďou vydáme naprieč močiarom Sudd a navštívime močiarnych Dinkov\, žijúcich na maličkých ostrovčekoch skrytých v rákosí. Surová\, silná a autentická cesta\, ktorá sa vryje pod kožu. \n\n			\n				\n			\n			\n				\n			\n			\n				\n			\n			\n				\n			\n		\n\n19:30 Katarína Nana Naništová a Nikola Kökényová – Camperom po južnom pobreží Európy\nNika a Nana si splnili detský sen o obytnej dodávke. Zbalili si pár vecí\, zaváraniny a mačku\, a na takmer 5 mesiacov sa stali nomádkami v pravom slova  zmysle. To ešte netušili\, že ich prvú veľkú cestu na obytnej dodávke preverí najhoršia a najdaždivejšia zima v južnej Európe za posledných 10 rokov. \nNajviac ich spomalila krása národného parku Cabo de Gata vo východnom kúte Andalúzie\, najmenej času strávili v preslávených veľkomestách ako Valencia a Barcelona. Prídu vám porozprávať o kráse španielskeho Costa de la Luz\, portugalského Algarve\, pobrežných turistikách a maurskej histórii\, ale aj o fungovaní a živote v obytnej dodávke s mačkou na palub(ovk)e. \nPríďte sa inšpirovať cestou\, ktorú môžete pri troche času a odvahy podniknúť aj vy. Neverili by ste\, že aj Európa ponúka také skvelé dobrodružstvá! \n\n			\n				\n			\n			\n				\n			\n			\n				\n			\n			\n				\n			\n		\n\n\n\nPredpredaj končí hodinu pred začiatkom podujatia. Cena v predpredaji je 10 eur za obe prednášky.\nĎalšie vstupenky budú dostupné na mieste za 12€. Podujatie je dostupné aj na našom Facebooku.
URL:https://cestounecestou.sk/podujatie/trencin-cestou-necestou-camperom-po-juznom-pobrezi-europy-bali-a-oplati-sa-tam-este-chodit/
LOCATION:Mestský hostinec\, Hviezdoslavova 137/8\, Trenčín\, Slovakia\, 911 01\, Slovenská republika
CATEGORIES:Cestou necestou
ATTACH;FMTTYPE=image/jpeg:https://cestounecestou.sk/wp-content/uploads/2026/03/DSCF0416.jpg
END:VEVENT
BEGIN:VEVENT
DTSTART;TZID=Europe/Bratislava:20260430T180000
DTEND;TZID=Europe/Bratislava:20260430T210000
DTSTAMP:20260425T194117
CREATED:20260303T175929Z
LAST-MODIFIED:20260303T184724Z
UID:10000457-1777572000-1777582800@cestounecestou.sk
SUMMARY:Nové Mesto nad Váhom - Cestou necestou -  Camperom po južnom pobreží Európy - Za mesiac naprieč Panamou
DESCRIPTION:Pozývame vás na cestovateľský večer\, v ktorom vám predstavíme dve cesty z úplne rozličných svetov. V tej prvej vás Nika s Nanou vezmú splniť si detský sen o obytnej dodávke na cestu po pobreží Južnej Európy. V druhej si s nimi zas zaspomínate na mesačnú cestu s batohmi po Paname. \n\n18:00 Katarína Nana Naništová a Nikola Kökényová – Camperom po južnom pobreží Európy\nNika a Nana si splnili detský sen o obytnej dodávke. Zbalili si pár vecí\, zaváraniny a mačku\, a na takmer 5 mesiacov sa stali nomádkami v pravom slova  zmysle. To ešte netušili\, že ich prvú veľkú cestu na obytnej dodávke preverí najhoršia a najdaždivejšia zima v južnej Európe za posledných 10 rokov. \nNajviac ich spomalila krása národného parku Cabo de Gata vo východnom kúte Andalúzie\, najmenej času strávili v preslávených veľkomestách ako Valencia a Barcelona. Prídu vám porozprávať o kráse španielskeho Costa de la Luz\, portugalského Algarve\, pobrežných turistikách a maurskej histórii\, ale aj o fungovaní a živote v obytnej dodávke s mačkou na palub(ovk)e. \nPríďte sa inšpirovať cestou\, ktorú môžete pri troche času a odvahy podniknúť aj vy. Neverili by ste\, že aj Európa ponúka také skvelé dobrodružstvá! \n\n			\n				\n			\n			\n				\n			\n			\n				\n			\n			\n				\n			\n		\n\n19:30 Katarína Naništová a Nikola Kökényová – Za mesiac naprieč Panamou\nCesta do Panamy mala byť prípravou na kontinent s obávanou reputáciu – Južnú Ameriku. Naša lekcia začala v Panama City\, hlavnom meste plnom kontrastov\, kde Panamský prieplav bol spočiatku len povinnou zastávkou\, no po spoznaní jeho histórie nás naučil veľa o krajine samotnej.\n\nPokračovali sme do dedinky ležiacej v krátery vulkánu\, kde sme si okrem prázdnych turistických chodníkov pohovorili aj s miestnymi policajtami na tému bezpečnosť. Čakal nás čarokrásny ostrov Coiba\, ktorý je vďaka vysokej ochrane prírody nedotknutým rajom. O to sa postarala aj jeho temná história. Pravdupovediac\, celú cestu Panamou nás sprevádzali strašidelné historky a príbehy\, ktoré s vami pozdieľame až na prednáške.\n\n\n			\n				\n			\n			\n				\n			\n			\n				\n			\n			\n				\n			\n		\n\n\n\n\nVstupné v predpredaji je 10€. Predpredaj končí hodinu pred začiatkom podujatia.\nĎalšie vstupenky budú dostupné na mieste za 12€. Podujatie nájdete na  našom Facebooku.
URL:https://cestounecestou.sk/podujatie/nove-mesto-nad-vahom-cestou-necestou-camperom-po-juznom-pobrezi-europy-za-mesiac-napriec-panamou/
LOCATION:Soul Art & Music Bar\, Československej armády 80/18\, Nové Mesto nad Váhom\, 915 01\, Slovenská republika
CATEGORIES:Cestou necestou
ATTACH;FMTTYPE=image/jpeg:https://cestounecestou.sk/wp-content/uploads/2026/03/Camperom_ES.jpg
END:VEVENT
END:VCALENDAR