BEGIN:VCALENDAR
VERSION:2.0
PRODID:-//OZ Cestou necestou - ECPv6.9.0//NONSGML v1.0//EN
CALSCALE:GREGORIAN
METHOD:PUBLISH
X-WR-CALNAME:OZ Cestou necestou
X-ORIGINAL-URL:https://cestounecestou.sk
X-WR-CALDESC:Events for OZ Cestou necestou
REFRESH-INTERVAL;VALUE=DURATION:PT1H
X-Robots-Tag:noindex
X-PUBLISHED-TTL:PT1H
BEGIN:VTIMEZONE
TZID:Europe/Bratislava
BEGIN:DAYLIGHT
TZOFFSETFROM:+0100
TZOFFSETTO:+0200
TZNAME:CEST
DTSTART:20260329T010000
END:DAYLIGHT
BEGIN:STANDARD
TZOFFSETFROM:+0200
TZOFFSETTO:+0100
TZNAME:CET
DTSTART:20261025T010000
END:STANDARD
END:VTIMEZONE
BEGIN:VEVENT
DTSTART;TZID=Europe/Bratislava:20260303T180000
DTEND;TZID=Europe/Bratislava:20260304T220000
DTSTAMP:20260426T024937
CREATED:20260120T074826Z
LAST-MODIFIED:20260217T115950Z
UID:10000418-1772560800-1772661600@cestounecestou.sk
SUMMARY:Banská Bystrica - Cestou necestou a Expedičná kamera - 3 prednášky + 8 filmov
DESCRIPTION:Príďte na Cestou necestou do Múzea SNP v Banskej Bystrici a zažite Afriku na bicykli s Lacom Branickým\, zimné jazdenie v Britskej Kolumbií s Tomášom Hossom a Pyreneje pešo s Michalom Knitlom. Osem filmov Expedičnej kamery 2026 vás zavedie do Himalájí\, Patagónie\, Bhutánu\, Sahary\, Grónska aj Kirgizska a ukáže\, čo znamená hľadať hranice\, vytrvalosť a slobodu v divokej prírode aj vnútri človeka. \n\n3.3.2026 Cestou necestou\n18:05 Laco Branický – Zo Slovenska do južnej Afriky (ako inak\, na bicykli)\nPrejsť na bicykli zo Slovenska na najjužnejší bod Afriky Strelkový mys\, kde sa miešajú vody Atlantického a Indického oceánu. Prejsť celý africký kontinent zo severu na juh západným pobrežím. Cez Saharu\, cez džungle okolo rovníka\, až po savany plné zveri na juhu. A tam\, kdesi na opačnej strane planéty\, kde slnko putuje oblohou po severnej strane a mesiac visí naopak\, si spraviť fotku. Taký bol môj plán\, keď som vyšiel v utorok z bytu v Bratislave a sadol na naložený bicykel. O 279 dní neskôr\, po prekonaní 23 000 km\, sa tento cieľ podaril naplniť. 21 krajín\, ktoré som prešiel\, mi umožnilo spoznať úplne iný\, netradičný svet. Aké je to cestovať Afrikou na bicykli? Je možné prejsť Saharou? Ako sa žije obyčajným ľuďom? Kde nájsť motiváciu\, keď človeka 3x skolí malária? Či aké je to spať vonku v savane\, kde žijú slony\, levy a hyeny? Afrika dôkladne rozoberie každý plán\, ale ak vytrváš\, odnesieš si zážitky na celý život. \n  \n\n			\n				\n			\n			\n				\n			\n			\n				\n			\n			\n				\n			\n		\n\n\n\n19:30 prestávka\n19:45 Tomáš Hossa – SICHTA – zimné jazdenie v Britskej Kolumbií\nBritská Kolumbia nás naučila spomaliť.\nPiatky po robote 4 hodiny v aute\, noci pri ohni v útulni\, víkendy strávené v horách.\n4 roky potu\, smiechu\, neuveriteľné množstvo vyšľapaných línií a jázd\, ktoré boleli aj liečili.\nSlováci a Česi ďaleko od domova – ale presne tam\, kde mali byť.\nFilm bol natáčaný 4 zimné sezóny v Britskej Kolumbií. Jazdili sme hlavne backcountry\, avšak podarilo sa natočiť niečo aj v parku a v uliciach.\nKrátky film spojený s krátkou prezentáciou a diskusiou. \n\n			\n				\n			\n			\n				\n			\n			\n				\n			\n			\n				\n			\n		\n\n20:15 Michal Knitl – 538 kilometrov po HRP v Pyrenejách\n\nOdľahlá divočina\, nespútaná príroda a stovky kilometrov na vlastných nohách. Pridajte sa na fascinujúcu cestu po legendárnej High Route Pyrenees – divokej trase vedúcej cez srdce Pyrenejí. Ako prežiť týždne v horách\, čeliť extrémom počasia\, stretnúť miestnych i podobne zmýšľajúcich dobrodruhov? Táto prednáška vás vtiahne do sveta diaľkových trás\, kde sa testujú nielen fyzické limity\, ale aj odhodlanie a láska k prírode. Príďte sa inšpirovať! \n538 km\, 40 243 metrov stúpania\, 39 168 metrov klesania za 27 dní. Znie to ako celkom dobrá prechádzka\, nie? Spoznáte nádherné lesy\, zasnežené sedlá\, niekoľko 3000-metrových hôr a k tomu po zásoby občas skočíme do Francúzska\, inokedy do Španielska a raz aj do Andorry. \n\n\n			\n				\n			\n			\n				\n			\n			\n				\n			\n			\n				\n			\n		\n\n\n\n4.3.2026 Expedičná kamera 2026 – Hory\, ticho\, pot a rovnováha\nSú cesty\, ktoré vedú do Himalájí\, Patagónie alebo saharskej púšte. A potom sú cesty\, ktoré smerujú oveľa bližšie – k vlastnému dychu\, strachu\, pochybnostiam aj radosti z pohybu. Práve tam sa odohrávajú príbehy\, ktoré prináša filmový festival Expedičná kamera. \nTohtoročný výber filmov spája putovanie krajinami\, kde končia cesty a začína skutočná skúsenosť. Fotografická výprava do nepálskeho Langtangu\, polročná pešia cesta patagónskou divočinou\, balansovanie nad priepasťou na slackline\, ticho bhutánskych chodníkov\, beh na milovanú horu aj vytrvalosť v rozpálenej púšti – každý z filmov ukazuje iný spôsob\, ako hľadať hranice a prečo má zmysel ich skúmať. \n18:05 Langtang – fotografická cesta do Himalájí (ČR\, 31 min)\nVýprava do srdca nepálskeho Himalája\, od pulzujúceho Káthmandu až po výstup na Yala Peak (5 500 m n. m.). Film prepája trekking\, miestnu kultúru a vášeň pre krajinársku fotografiu. Súčasťou je aj pohľad do zákulisia fotografického workshopu vedeného Petrom Janom Juračkom a Vojtom Kosobudom. \n\n			\n				\n			\n			\n				\n			\n			\n				\n			\n			\n				\n			\n		\n\n18:36 Stopy divočiny (ČR\, 31 min)\nSurový a osobný film o päťmesačnej pešej ceste Patagóniou dlhej 4 000 kilometrov. Snímka kladie otázku\, či človek zanecháva stopu v divočine – alebo divočina v človeku. \n\n			\n				\n			\n			\n				\n			\n			\n				\n			\n			\n				\n			\n		\n\n19:07 Samuel Volery: Legenda slackline (Švajčiarsko\, 28 min)\nPortrét jednej z najvýraznejších osobností moderného slackliningu. Film sleduje pätnásť rokov posúvania hraníc fyzických aj psychických možností v extrémnych výškach. \n\n			\n				\n			\n			\n				\n			\n		\n\n19:35 prestávka\n19:50 Bhután: Cesty šťastia (Rakúsko\, 9 min)\nHorský cyklista Tom Öhler objavuje odľahlé chodníky Bhutánu spolu s miestnym priekopníkom MTB. Dobrodružstvo\, ktoré spája šport\, kultúru a filozofiu šťastia. \n\n			\n				\n			\n			\n				\n			\n			\n				\n			\n			\n				\n			\n		\n\n20:00 Pod bodom varu (Taliansko\, 15 min)\nŠtyria priatelia na jednom z najťažších ultramaratónov sveta – Marathon des Sables. Intímna a zmyslová výpoveď o zraniteľnosti\, vytrvalosti a ľudskej blízkosti v extrémnych podmienkach Sahary. \n\n			\n				\n			\n			\n				\n			\n		\n\n20:15 Patagónia Ázie (Nemecko\, 24 min)\nVýprava do takmer neznámych hôr juhozápadného Kirgizska\, kde sa mieša duch priekopníctva\, drsná príroda a cyklistika v miestach\, kam sa doteraz takmer nikto nevydal. \n\n			\n				\n			\n			\n				\n			\n			\n				\n			\n			\n				\n			\n		\n\n20:39 Na vrchol Pointe Percée (Francúzsko\, 18 min)\nCitlivý portrét bežkyne Iris\, ktorá sa pokúša prekonať rekord na hore svojho detstva. Film o slobode\, očakávaniach\, odolnosti a skutočnom význame dosiahnutia vrcholu. \n\n			\n				\n			\n			\n				\n			\n		\n\n20:57 Na kajaku južným Grónskom (ČR\, 43 min)\nSedem českých sea kajakárov sa v lete vydáva do južného Grónska\, aby dopádlovali nádhernou krajinou až k ľadovcovým splazom. Po ceste pozorujú tulene\, užívajú si táborenie a vyhýbajú sa obrovským kryhám. Nahliadajú do zákutí miestnych dedín a aspoň na chvíľu zdieľajú zážitky s miestnymi obyvateľmi. \n\n			\n				\n			\n			\n				\n			\n		\n\n\nDvojdňové vstupenky sú v predpredaji do konca februára. Potom budú dostupné iba jednodňové vstupenky. Ďalšie vstupenky budú dostupné na mieste (ak to kapacita dovolí) za 14 € na 1 deň\, 24 € / 2 dni\, alebo 8 € na časť po prestávke. Predpredaj končí hodinu pred začiatkom podujatia.
URL:https://cestounecestou.sk/podujatie/banska-bystrica-cestou-necestou-a-expedicna-kamera-2-prednasky-8-filmov/
LOCATION:Múzeum SNP\, Kapitulská 23\, Banská Bystrica\, 97559\, Slovakia (Slovak Republic)
CATEGORIES:Cestou necestou,Expedičná kamera
ATTACH;FMTTYPE=image/jpeg:https://cestounecestou.sk/wp-content/uploads/2026/01/IMG_1259.jpg
END:VEVENT
BEGIN:VEVENT
DTSTART;TZID=Europe/Bratislava:20260304T173000
DTEND;TZID=Europe/Bratislava:20260304T213000
DTSTAMP:20260426T024937
CREATED:20260202T113237Z
LAST-MODIFIED:20260202T134309Z
UID:10000440-1772645400-1772659800@cestounecestou.sk
SUMMARY:Piešťany - Expedičná kamera 2026 - 8 dobrodružných filmov
DESCRIPTION:Vyrazte s nami za hranice známeho – osem filmov Expedičnej kamery 2026 vás vezme do nepálskych Himalájí\, Patagónie\, Bhutánu\, Sahary\, Grónska aj Kirgizska\, odhalí polročnú pešiu cestu divokou Patagóniou a ukáže\, ako objavovať vlastnú vytrvalosť\, slobodu a odvahu v divokej prírode aj vo vlastnom vnútri. Už 4.marca v piešťanskom Žiwell Kursalone… \n\n17:40 Langtang – fotografická cesta do Himalájí (ČR\, 31 min)\nVýprava do srdca nepálskeho Himalája\, od pulzujúceho Káthmandu až po výstup na Yala Peak (5 500 m n. m.). Film prepája trekking\, miestnu kultúru a vášeň pre krajinársku fotografiu. Súčasťou je aj pohľad do zákulisia fotografického workshopu vedeného Petrom Janom Juračkom a Vojtom Kosobudom. \n\n			\n				\n			\n			\n				\n			\n			\n				\n			\n			\n				\n			\n		\n\n18:11 Stopy divočiny (ČR\, 31 min)\nSurový a osobný film o päťmesačnej pešej ceste Patagóniou dlhej 4 000 kilometrov. Snímka kladie otázku\, či človek zanecháva stopu v divočine – alebo divočina v človeku. \n\n			\n				\n			\n			\n				\n			\n			\n				\n			\n			\n				\n			\n		\n\n18:42 Samuel Volery: Legenda slackline (Švajčiarsko\, 28 min)\nPortrét jednej z najvýraznejších osobností moderného slackliningu. Film sleduje pätnásť rokov posúvania hraníc fyzických aj psychických možností v extrémnych výškach. \n\n			\n				\n			\n			\n				\n			\n		\n\n19:10 prestávka\n19:30 Bhután: Cesty šťastia (Rakúsko\, 9 min)\nHorský cyklista Tom Öhler objavuje odľahlé chodníky Bhutánu spolu s miestnym priekopníkom MTB. Dobrodružstvo\, ktoré spája šport\, kultúru a filozofiu šťastia. \n\n			\n				\n			\n			\n				\n			\n			\n				\n			\n			\n				\n			\n		\n\n19:40 Pod bodom varu (Taliansko\, 15 min)\nŠtyria priatelia na jednom z najťažších ultramaratónov sveta – Marathon des Sables. Intímna a zmyslová výpoveď o zraniteľnosti\, vytrvalosti a ľudskej blízkosti v extrémnych podmienkach Sahary. \n\n			\n				\n			\n			\n				\n			\n		\n\n19:55 Patagónia Ázie (Nemecko\, 24 min)\nVýprava do takmer neznámych hôr juhozápadného Kirgizska\, kde sa mieša duch priekopníctva\, drsná príroda a cyklistika v miestach\, kam sa doteraz takmer nikto nevydal. \n\n			\n				\n			\n			\n				\n			\n			\n				\n			\n			\n				\n			\n		\n\n20:20 Na vrchol Pointe Percée (Francúzsko\, 18 min)\nCitlivý portrét bežkyne Iris\, ktorá sa pokúša prekonať rekord na hore svojho detstva. Film o slobode\, očakávaniach\, odolnosti a skutočnom význame dosiahnutia vrcholu. \n\n			\n				\n			\n			\n				\n			\n		\n\n20:38 Na kajaku južným Grónskom (ČR\, 43 min)\nSedem českých sea kajakárov sa v lete vydáva do južného Grónska\, aby dopádlovali nádhernou krajinou až k ľadovcovým splazom. Po ceste pozorujú tulene\, užívajú si táborenie a vyhýbajú sa obrovským kryhám. Nahliadajú do zákutí miestnych dedín a aspoň na chvíľu zdieľajú zážitky s miestnymi obyvateľmi. \n\n			\n				\n			\n			\n				\n			\n		\n\n\nPredpredaj končí hodinu pred začiatkom podujatia.  Ďalšie vstupenky budú dostupné na mieste za 12 € alebo 8 € na časť po prestávke. Podujatie nájdete aj facebooku.
URL:https://cestounecestou.sk/podujatie/piestany-expedicna-kamera-2026-8-dobrodruznych-filmov/
LOCATION:ŽiWell Kursalon\, Beethovenova 5\, Piešťany\, 92101\, Slovenská republika
CATEGORIES:Expedičná kamera
ATTACH;FMTTYPE=image/jpeg:https://cestounecestou.sk/wp-content/uploads/2026/01/IMG_2796.jpg
END:VEVENT
BEGIN:VEVENT
DTSTART;TZID=Europe/Bratislava:20260304T180000
DTEND;TZID=Europe/Bratislava:20260304T220000
DTSTAMP:20260426T024937
CREATED:20260121T204308Z
LAST-MODIFIED:20260303T195318Z
UID:10000431-1772647200-1772661600@cestounecestou.sk
SUMMARY:Trenčín - Expedičná kamera 2026 - 8 dobrodružných filmov
DESCRIPTION:Vyrazte s nami za hranice známeho – osem filmov Expedičnej kamery 2026 vás vezme do Himalájí\, Patagónie\, Bhutánu\, Sahary\, Grónska aj Kirgizska\, odhalí polročnú pešiu cestu divokou Patagóniou a ukáže\, ako objavovať vlastnú vytrvalosť\, slobodu a odvahu v divokej prírode aj vo vlastnom vnútri. \nKúpiť vstupenky \n\n18:10 Langtang – fotografická cesta do Himalájí (ČR\, 31 min)\nVýprava do srdca nepálskeho Himalája\, od pulzujúceho Káthmandu až po výstup na Yala Peak (5 500 m n. m.). Film prepája trekking\, miestnu kultúru a vášeň pre krajinársku fotografiu. Súčasťou je aj pohľad do zákulisia fotografického workshopu vedeného Petrom Janom Juračkom a Vojtom Kosobudom. \n\n			\n				\n			\n			\n				\n			\n			\n				\n			\n			\n				\n			\n		\n\n18:41 Stopy divočiny (ČR\, 31 min)\nSurový a osobný film o päťmesačnej pešej ceste Patagóniou dlhej 4 000 kilometrov. Snímka kladie otázku\, či človek zanecháva stopu v divočine – alebo divočina v človeku. \n\n			\n				\n			\n			\n				\n			\n			\n				\n			\n			\n				\n			\n		\n\n19:12 Samuel Volery: Legenda slackline (Švajčiarsko\, 28 min)\nPortrét jednej z najvýraznejších osobností moderného slackliningu. Film sleduje pätnásť rokov posúvania hraníc fyzických aj psychických možností v extrémnych výškach. \n\n			\n				\n			\n			\n				\n			\n		\n\n19:40 prestávka\n20:00 Bhután: Cesty šťastia (Rakúsko\, 9 min)\nHorský cyklista Tom Öhler objavuje odľahlé chodníky Bhutánu spolu s miestnym priekopníkom MTB. Dobrodružstvo\, ktoré spája šport\, kultúru a filozofiu šťastia. \n\n			\n				\n			\n			\n				\n			\n			\n				\n			\n			\n				\n			\n		\n\n20:10 Pod bodom varu (Taliansko\, 15 min)\nŠtyria priatelia na jednom z najťažších ultramaratónov sveta – Marathon des Sables. Intímna a zmyslová výpoveď o zraniteľnosti\, vytrvalosti a ľudskej blízkosti v extrémnych podmienkach Sahary. \n\n			\n				\n			\n			\n				\n			\n		\n\n20:25 Patagónia Ázie (Nemecko\, 24 min)\nVýprava do takmer neznámych hôr juhozápadného Kirgizska\, kde sa mieša duch priekopníctva\, drsná príroda a cyklistika v miestach\, kam sa doteraz takmer nikto nevydal. \n\n			\n				\n			\n			\n				\n			\n			\n				\n			\n			\n				\n			\n		\n\n20:50 Na vrchol Pointe Percée (Francúzsko\, 18 min)\nCitlivý portrét bežkyne Iris\, ktorá sa pokúša prekonať rekord na hore svojho detstva. Film o slobode\, očakávaniach\, odolnosti a skutočnom význame dosiahnutia vrcholu. \n\n			\n				\n			\n			\n				\n			\n		\n\n21:20 Na kajaku južným Grónskom (ČR\, 43 min)\nSedem českých sea kajakárov sa v lete vydáva do južného Grónska\, aby dopádlovali nádhernou krajinou až k ľadovcovým splazom. Po ceste pozorujú tulene\, užívajú si táborenie a vyhýbajú sa obrovským kryhám. Nahliadajú do zákutí miestnych dedín a aspoň na chvíľu zdieľajú zážitky s miestnymi obyvateľmi. \n\n			\n				\n			\n			\n				\n			\n		\n\n\nPredpredaj končí o 17:00.  Ďalšie vstupenky budú dostupné na mieste za 12 € alebo 8 € na časť po prestávke.  \nKúpiť vstupenky
URL:https://cestounecestou.sk/podujatie/trencin-expedicna-kamera-2026-8-dobrodruznych-filmov/
LOCATION:Mestský hostinec\, Hviezdoslavova 137/8\, Trenčín\, Slovakia\, 911 01\, Slovenská republika
CATEGORIES:Expedičná kamera
ATTACH;FMTTYPE=image/jpeg:https://cestounecestou.sk/wp-content/uploads/2026/01/IMG_1259.jpg
ORGANIZER;CN="Matej Gellen":MAILTO:matej@cestounecestou.sk
END:VEVENT
BEGIN:VEVENT
DTSTART;TZID=Europe/Bratislava:20260304T180000
DTEND;TZID=Europe/Bratislava:20260304T220000
DTSTAMP:20260426T024937
CREATED:20260211T140504Z
LAST-MODIFIED:20260219T090206Z
UID:10000442-1772647200-1772661600@cestounecestou.sk
SUMMARY:Prešov - Expedičná kamera 2026 - 8 dobrodružných filmov
DESCRIPTION:Vyrazte s nami za hranice známeho – osem filmov Expedičnej kamery 2026 vás vezme do Himalájí\, Patagónie\, Bhutánu\, Sahary\, Grónska aj Kirgizska\, odhalí polročnú pešiu cestu divokou Patagóniou a ukáže\, ako objavovať vlastnú vytrvalosť\, slobodu a odvahu v divokej prírode aj vo vlastnom vnútri. \n\n17:40 Langtang – fotografická cesta do Himalájí (ČR\, 31 min)\nVýprava do srdca nepálskeho Himalája\, od pulzujúceho Káthmandu až po výstup na Yala Peak (5 500 m n. m.). Film prepája trekking\, miestnu kultúru a vášeň pre krajinársku fotografiu. Súčasťou je aj pohľad do zákulisia fotografického workshopu vedeného Petrom Janom Juračkom a Vojtom Kosobudom. \n\n			\n				\n			\n			\n				\n			\n			\n				\n			\n			\n				\n			\n		\n\n18:11 Stopy divočiny (ČR\, 31 min)\nSurový a osobný film o päťmesačnej pešej ceste Patagóniou dlhej 4 000 kilometrov. Snímka kladie otázku\, či človek zanecháva stopu v divočine – alebo divočina v človeku. \n\n			\n				\n			\n			\n				\n			\n			\n				\n			\n			\n				\n			\n		\n\n18:42 Samuel Volery: Legenda slackline (Švajčiarsko\, 28 min)\nPortrét jednej z najvýraznejších osobností moderného slackliningu. Film sleduje pätnásť rokov posúvania hraníc fyzických aj psychických možností v extrémnych výškach. \n\n			\n				\n			\n			\n				\n			\n		\n\n19:10 prestávka\n19:30 Bhután: Cesty šťastia (Rakúsko\, 9 min)\nHorský cyklista Tom Öhler objavuje odľahlé chodníky Bhutánu spolu s miestnym priekopníkom MTB. Dobrodružstvo\, ktoré spája šport\, kultúru a filozofiu šťastia. \n\n			\n				\n			\n			\n				\n			\n			\n				\n			\n			\n				\n			\n		\n\n19:40 Pod bodom varu (Taliansko\, 15 min)\nŠtyria priatelia na jednom z najťažších ultramaratónov sveta – Marathon des Sables. Intímna a zmyslová výpoveď o zraniteľnosti\, vytrvalosti a ľudskej blízkosti v extrémnych podmienkach Sahary. \n\n			\n				\n			\n			\n				\n			\n		\n\n19:55 Patagónia Ázie (Nemecko\, 24 min)\nVýprava do takmer neznámych hôr juhozápadného Kirgizska\, kde sa mieša duch priekopníctva\, drsná príroda a cyklistika v miestach\, kam sa doteraz takmer nikto nevydal. \n\n			\n				\n			\n			\n				\n			\n			\n				\n			\n			\n				\n			\n		\n\n20:20 Na vrchol Pointe Percée (Francúzsko\, 18 min)\nCitlivý portrét bežkyne Iris\, ktorá sa pokúša prekonať rekord na hore svojho detstva. Film o slobode\, očakávaniach\, odolnosti a skutočnom význame dosiahnutia vrcholu. \n\n			\n				\n			\n			\n				\n			\n		\n\n20:38 Na kajaku južným Grónskom (ČR\, 43 min)\nSedem českých sea kajakárov sa v lete vydáva do južného Grónska\, aby dopádlovali nádhernou krajinou až k ľadovcovým splazom. Po ceste pozorujú tulene\, užívajú si táborenie a vyhýbajú sa obrovským kryhám. Nahliadajú do zákutí miestnych dedín a aspoň na chvíľu zdieľajú zážitky s miestnymi obyvateľmi. \n\n			\n				\n			\n			\n				\n			\n		\n\n\nPredpredaj končí hodinu pred začiatkom podujatia.  Ďalšie vstupenky budú dostupné na mieste za 12 € alebo 8 € na časť po prestávke. 
URL:https://cestounecestou.sk/podujatie/presov-expedicna-kamera-2026-8-dobrodruznych-filmov/
LOCATION:Wave\, Námestie Kráľovnej pokoja 3\, Prešov\, 08001
CATEGORIES:Expedičná kamera
ATTACH;FMTTYPE=image/jpeg:https://cestounecestou.sk/wp-content/uploads/2026/01/IMG_1259.jpg
ORGANIZER;CN="Denisa":MAILTO:denisa@cestounecestou.sk
END:VEVENT
END:VCALENDAR