BEGIN:VCALENDAR
VERSION:2.0
PRODID:-//OZ Cestou necestou - ECPv6.9.0//NONSGML v1.0//EN
CALSCALE:GREGORIAN
METHOD:PUBLISH
X-WR-CALNAME:OZ Cestou necestou
X-ORIGINAL-URL:https://cestounecestou.sk
X-WR-CALDESC:Events for OZ Cestou necestou
REFRESH-INTERVAL;VALUE=DURATION:PT1H
X-Robots-Tag:noindex
X-PUBLISHED-TTL:PT1H
BEGIN:VTIMEZONE
TZID:Europe/Bratislava
BEGIN:DAYLIGHT
TZOFFSETFROM:+0100
TZOFFSETTO:+0200
TZNAME:CEST
DTSTART:20260329T010000
END:DAYLIGHT
BEGIN:STANDARD
TZOFFSETFROM:+0200
TZOFFSETTO:+0100
TZNAME:CET
DTSTART:20261025T010000
END:STANDARD
END:VTIMEZONE
BEGIN:VEVENT
DTSTART;TZID=Europe/Bratislava:20260319T180000
DTEND;TZID=Europe/Bratislava:20260319T220000
DTSTAMP:20260426T061019
CREATED:20260121T203313Z
LAST-MODIFIED:20260311T212502Z
UID:10000429-1773943200-1773957600@cestounecestou.sk
SUMMARY:Hlohovec - Expedičná kamera 2026 - 8 dobrodružných filmov
DESCRIPTION:Vyrazte s nami za hranice známeho – osem filmov Expedičnej kamery 2026 vás vezme do Himalájí\, Patagónie\, Bhutánu\, Sahary\, Grónska aj Kirgizska\, odhalí polročnú pešiu cestu divokou Patagóniou a ukáže\, ako objavovať vlastnú vytrvalosť\, slobodu a odvahu v divokej prírode aj vo vlastnom vnútri. \nKúpiť vstupenky \n\n18:10 Langtang – fotografická cesta do Himalájí (ČR\, 31 min)\nVýprava do srdca nepálskeho Himalája\, od pulzujúceho Káthmandu až po výstup na Yala Peak (5 500 m n. m.). Film prepája trekking\, miestnu kultúru a vášeň pre krajinársku fotografiu. Súčasťou je aj pohľad do zákulisia fotografického workshopu vedeného Petrom Janom Juračkom a Vojtom Kosobudom. \n\n			\n				\n			\n			\n				\n			\n			\n				\n			\n			\n				\n			\n		\n\n18:41 Stopy divočiny (ČR\, 31 min)\nSurový a osobný film o päťmesačnej pešej ceste Patagóniou dlhej 4 000 kilometrov. Snímka kladie otázku\, či človek zanecháva stopu v divočine – alebo divočina v človeku. \n\n			\n				\n			\n			\n				\n			\n			\n				\n			\n			\n				\n			\n		\n\n19:12 Samuel Volery: Legenda slackline (Švajčiarsko\, 28 min)\nPortrét jednej z najvýraznejších osobností moderného slackliningu. Film sleduje pätnásť rokov posúvania hraníc fyzických aj psychických možností v extrémnych výškach. \n\n\n			\n				\n			\n			\n				\n			\n		\n\n19:40 prestávka\n20:00 Bhután: Cesty šťastia (Rakúsko\, 9 min)\nHorský cyklista Tom Öhler objavuje odľahlé chodníky Bhutánu spolu s miestnym priekopníkom MTB. Dobrodružstvo\, ktoré spája šport\, kultúru a filozofiu šťastia. \n\n\n			\n				\n			\n			\n				\n			\n			\n				\n			\n			\n				\n			\n		\n\n20:10 Pod bodom varu (Taliansko\, 15 min)\nŠtyria priatelia na jednom z najťažších ultramaratónov sveta – Marathon des Sables. Intímna a zmyslová výpoveď o zraniteľnosti\, vytrvalosti a ľudskej blízkosti v extrémnych podmienkach Sahary. \n\n			\n				\n			\n			\n				\n			\n		\n\n20:25 Patagónia Ázie (Nemecko\, 24 min)\nVýprava do takmer neznámych hôr juhozápadného Kirgizska\, kde sa mieša duch priekopníctva\, drsná príroda a cyklistika v miestach\, kam sa doteraz takmer nikto nevydal. \n\n\n			\n				\n			\n			\n				\n			\n			\n				\n			\n			\n				\n			\n		\n\n20:50 Na vrchol Pointe Percée (Francúzsko\, 18 min)\nCitlivý portrét bežkyne Iris\, ktorá sa pokúša prekonať rekord na hore svojho detstva. Film o slobode\, očakávaniach\, odolnosti a skutočnom význame dosiahnutia vrcholu. \n\n\n			\n				\n			\n			\n				\n			\n		\n\n21:20 Na kajaku južným Grónskom (ČR\, 43 min)\nSedem českých sea kajakárov sa v lete vydáva do južného Grónska\, aby dopádlovali nádhernou krajinou až k ľadovcovým splazom. Po ceste pozorujú tulene\, užívajú si táborenie a vyhýbajú sa obrovským kryhám. Nahliadajú do zákutí miestnych dedín a aspoň na chvíľu zdieľajú zážitky s miestnymi obyvateľmi. \n\n			\n				\n			\n			\n				\n			\n		\n\n\nPredpredaj končí o 17:00.  Ďalšie vstupenky budú dostupné na mieste za 12 € alebo 8 € na časť po prestávke.  \nKúpiť vstupenky
URL:https://cestounecestou.sk/podujatie/hlohovec-expedicna-kamera-2026-8-dobrodruznych-filmov/
LOCATION:Kino Úsmev Hlohovec\, M.R.Štefánika 3\, Hlohovec\, 920 01\, Slovakia (Slovak Republic)
CATEGORIES:Expedičná kamera
ATTACH;FMTTYPE=image/jpeg:https://cestounecestou.sk/wp-content/uploads/2026/01/IMG_1259.jpg
ORGANIZER;CN="Matej Gellen":MAILTO:matej@cestounecestou.sk
END:VEVENT
END:VCALENDAR