BEGIN:VCALENDAR
VERSION:2.0
PRODID:-//OZ Cestou necestou - ECPv6.9.0//NONSGML v1.0//EN
CALSCALE:GREGORIAN
METHOD:PUBLISH
X-WR-CALNAME:OZ Cestou necestou
X-ORIGINAL-URL:https://cestounecestou.sk
X-WR-CALDESC:Events for OZ Cestou necestou
REFRESH-INTERVAL;VALUE=DURATION:PT1H
X-Robots-Tag:noindex
X-PUBLISHED-TTL:PT1H
BEGIN:VTIMEZONE
TZID:Europe/Bratislava
BEGIN:DAYLIGHT
TZOFFSETFROM:+0100
TZOFFSETTO:+0200
TZNAME:CEST
DTSTART:20260329T010000
END:DAYLIGHT
BEGIN:STANDARD
TZOFFSETFROM:+0200
TZOFFSETTO:+0100
TZNAME:CET
DTSTART:20261025T010000
END:STANDARD
END:VTIMEZONE
BEGIN:VEVENT
DTSTART;TZID=Europe/Bratislava:20260413T180000
DTEND;TZID=Europe/Bratislava:20260413T210000
DTSTAMP:20260426T020430
CREATED:20260318T233324Z
LAST-MODIFIED:20260410T113045Z
UID:10000468-1776103200-1776114000@cestounecestou.sk
SUMMARY:Nitra - Cestou necestou - od Death Valley po Mount Whitney\, ostrov Sulawesi
DESCRIPTION:Pozývame Vás na aprílovú cestovateľskú prednášku\, kde sa pozrieme na trek od Death Valley po Mount Whitney\, následne prenesieme na ostrov Sulawesi. Na záver si dáme kvíz (zmena oproti Čile\, ktoré sme museli preložiť na iný dátum). \nKúpiť vstupenky \n18:00 – USA – Low to High – Týždňové putovanie od Death Valley po Mount Whitney – Pellerová Daniela\nKoľko kilometrov by mal trek\, ktorý spojí najnižší a najvyšší bod kontinentálnej Ameriky? Koľko vody je treba na pár dní v púšti? Aké najväčšie zvieratá tam vieš stretnúť? Odpoveď na žiadnu z týchto otázok som nevedela\, keď som nadšene prikývla kamarátovi na nápad kráčať na treku v Death Valley. Zabezpečil mi množstvo odpovedí\, prekvapení a zážitkov\, ktoré budem zdieľať v prezentácii. \n\n			\n				\n			\n			\n				\n			\n			\n				\n			\n			\n				\n			\n		\n\n19:00 – Sulawesi: Miesto\, kde smrť nie je koniec – Ľuboš Ďurica\nSulawesi je jeden z najzaujímavejších ostrovov Indonézie – divoký\, rozmanitý a stále mimo hlavných turistických trás. Svojím zvláštnym tvarom pripomína orchideu a ukrýva neuveriteľnú kombináciu hôr\, džungle\, koralových útesov a tradičných kultúr. Prevedie nás ním fotograf a vášnivý cestovateľ Ľuboš Ďurica. \n\n			\n				\n			\n			\n				\n			\n			\n				\n			\n			\n				\n			\n		\n\n20:20 -Kvíz\nMalo tu byť Čile\, ale nakoniec sme ho museli preložiť na iný termín. Tak si dáme malý vedomostný kvíz. \nVstupné\nPredpredaj vstupeniek za zvýhodnenú cenu 10 € prebieha do 10. 4. do 23:59.\nOd 11. 4. budú vstupenky dostupné za cenu 12 €.\nKvôli obmedzenej kapacite odporúčame vstupenky zakúpiť vopred cez internet. \nRezervácie stolov pre väčšie skupinky: kontaktujte Music a Cafe: 0910 900 899 \nKúpiť vstupenky
URL:https://cestounecestou.sk/podujatie/nitra-cestou-necestou-tyzdnove-putovanie-od-death-valley-po-mount-whitney-a-ostrov-sulawesi/
LOCATION:Music a Cafe Nitra\, Akademická 1/A\, Nitra\, Slovenská republika
CATEGORIES:Cestou necestou
ATTACH;FMTTYPE=image/jpeg:https://cestounecestou.sk/wp-content/uploads/2026/03/Durica-Lubos-Sulawesi-1.jpg
ORGANIZER;CN="Matej Gellen":MAILTO:matej@cestounecestou.sk
END:VEVENT
END:VCALENDAR