BEGIN:VCALENDAR
VERSION:2.0
PRODID:-//OZ Cestou necestou - ECPv6.9.0//NONSGML v1.0//EN
CALSCALE:GREGORIAN
METHOD:PUBLISH
X-ORIGINAL-URL:https://cestounecestou.sk
X-WR-CALDESC:Events for OZ Cestou necestou
REFRESH-INTERVAL;VALUE=DURATION:PT1H
X-Robots-Tag:noindex
X-PUBLISHED-TTL:PT1H
BEGIN:VTIMEZONE
TZID:Europe/Bratislava
BEGIN:DAYLIGHT
TZOFFSETFROM:+0100
TZOFFSETTO:+0200
TZNAME:CEST
DTSTART:20260329T010000
END:DAYLIGHT
BEGIN:STANDARD
TZOFFSETFROM:+0200
TZOFFSETTO:+0100
TZNAME:CET
DTSTART:20261025T010000
END:STANDARD
END:VTIMEZONE
BEGIN:VEVENT
DTSTART;TZID=Europe/Bratislava:20260505T180000
DTEND;TZID=Europe/Bratislava:20260505T210000
DTSTAMP:20260426T025442
CREATED:20260303T150221Z
LAST-MODIFIED:20260409T074541Z
UID:10000447-1778004000-1778014800@cestounecestou.sk
SUMMARY:Poprad – Cestou necestou – Nový rok na Bali - Great Himalaya Trail: Od Nanga Parbat po Kanchenjungu
DESCRIPTION:Srdečne vás pozývame na cestovateľský festival Cestou necestou v Popradskom Kine Tatran\, kde nás premiérovo čaká naozaj unikátny večer! Vyberieme sa totiž s Michalom Tlelkom a Sofiou Bočeva na peší prechod hlavnej časti Himalájí\, ktorý tento pár dokončil len nedávno. Pakistan\, India\, Nepál….215 dní a 3616km!   \nCestovateľským predskokanom bude Katarína “Nana” Naništová\, ktorá vám porozpráva o novom roku na Bali\, ktorý s tým slovenským nemá spoločné nič\, ani len dátum. \n\n18:00 Katarína “Nana” Naništová – Nový rok na Bali\nNový rok na Bali nemá s novým rokom ako ho poznáme my nič špoločné – dokonca ani dátum. Sprevádzajú ho niekoľkodňové rituály a ceremónie\, z ktorých každá má svoj význam. O všetkom\, čo sa spája s odchodom starého a príchodom nového roka\, sa dozviete v krátkej prezentácii cestovateľky Kataríny Nany Naništovej. \n\n			\n				\n			\n			\n				\n			\n			\n				\n			\n			\n				\n			\n		\n\n18:40 Michal Tlelka a Sofia Bočeva– Great Himalaya Trail – 1.časť- Pakistan a India\nPrvý súvislý peší prechod hlavnej časti Himaláji od Pakistánu cez Indiu až po samý východ Nepálu! A kto ho má “na svedomí?” 🙂 \nMichal cestuje už 12 rokov na pankáča (so spacákom a karimatkou) kade tade po svete\, napr. Bolívia\, Čile\, stan-štáty\, Maroko\, Pakistán\, Saudská Arábia\, Bangladéš. Má za sebou dva dĺžkové treky: cesta hrdinov SNP a Santiago de Compostella (1000 km). Tento cestovateľský projekt GHT je jeho dosiaľ najväčším. \nSofia je vedená k cestovaniu od rodičov\, od malého veku. Prvé spacákové dobrodružstvo v zahraničí zažila s Michalom na Faerských ostrovoch v roku 2021\, neskôr na Madeire a Sardínii. O tomto himalájskom projekte ani len nesnívala a dnes je zrejme prvou ženou na svete\, ktorej sa takýto prechod podaril. \nKráčali 215 dní 3 616 km s výškovým prevýšením 163 000 metrov. Suché hory\, ľadovce\, džungľa\, vysoké sedlá\, skromný horský život a nezabudnuteľné stretnutia s domácimi. V prvej časti večera začneme pod legendárnou pakistanskou 8-tisícovkou Nanga Parbat a postupne sa dostaneme do Indie\, až po nepálske hranice. \n\n			\n				\n			\n			\n				\n			\n			\n				\n			\n			\n				\n			\n		\n\n\n\n19:15 prestávka\n19:30 Michal Tlelka a Sofia Bočeva – Great Himalaya Trail – 2.časť- Nepál\nV druhej polovici večera Michal a Sofii budú pokračovať vo svojom himalájskom príbehu a porozprávajú nám o nepálskej časti expedície. \nPutovanie po 215tich dňoch zakončili pod majestátnou Kanchenjongou. Ale hovorí sa….”Ak raz navštívite himalájske kráľovstvo\, bude vás k sebe volať už naveky. ” \nPo prednáškach voľná diskusia….a otázkam sa medze nekladú. 🙂 \n\n			\n				\n			\n			\n				\n			\n			\n				\n			\n			\n				\n			\n		\n\n\nĎalšie vstupenky budú dostupné na mieste (ak to kapacita dovolí) za 12 €. Predpredaj končí hodinu pred začiatkom podujatia. Podujatie nájdete aj na Facebooku.
URL:https://cestounecestou.sk/podujatie/poprad-cestou-necestou-novy-rok-na-bali-great-himalaya-trail-od-nanga-parbat-po-kanchenjungu/
LOCATION:Kino Tatran\, Námestie svätého Egídia 43/86\, Poprad\, 05801\, Slovakia (Slovak Republic)
CATEGORIES:Cestou necestou
ATTACH;FMTTYPE=image/jpeg:https://cestounecestou.sk/wp-content/uploads/2025/12/GP011070_1754057926948.jpg
END:VEVENT
END:VCALENDAR